BEGIN:VCALENDAR
VERSION:2.0
PRODID:-//ACHE of Massachusetts - ECPv6.15.18//NONSGML v1.0//EN
CALSCALE:GREGORIAN
METHOD:PUBLISH
X-ORIGINAL-URL:https://massache.org
X-WR-CALDESC:Events for ACHE of Massachusetts
REFRESH-INTERVAL;VALUE=DURATION:PT1H
X-Robots-Tag:noindex
X-PUBLISHED-TTL:PT1H
BEGIN:VTIMEZONE
TZID:UTC
BEGIN:STANDARD
TZOFFSETFROM:+0000
TZOFFSETTO:+0000
TZNAME:UTC
DTSTART:20180101T000000
END:STANDARD
END:VTIMEZONE
BEGIN:VEVENT
DTSTART;TZID=UTC:20190920T070000
DTEND;TZID=UTC:20190920T083000
DTSTAMP:20260421T150503
CREATED:20190813T230835Z
LAST-MODIFIED:20190813T230835Z
UID:4805-1568962800-1568968200@massache.org
SUMMARY:Breakfast with Healthcare Champions Series: Breakfast with David Seltz
DESCRIPTION:Friday\, September 20\, 2019\n7:00 – 8:30 AM\nSuffolk University\nThe Commons 5th Floor\n120 Tremont Street\, Boston\, MA \nDavid Seltz is the first Executive Director of the Massachusetts Health Policy Commission (HPC)\, an independent state agency charged with monitoring health care spending growth in Massachusetts and providing data-driven policy recommendations regarding health care delivery and payment system reform. The HPC’s mission is to advance a more transparent\, accountable\, and innovative health care system through independent policy leadership and innovative investment programs. David will speak about the HPC’s past\, ongoing\, and future work in furtherance of this mission for better health and better care – at a lower cost – across the Commonwealth. \nOnline Registration \nDavid Seltz\, Executive Director\nMassachusetts Health Policy Commission\nDavid Seltz is the first Executive Director of the Massachusetts Health Policy Commission. Prior to this role\, David was the chief health care advisor for then-Senate President Therese Murray and served as the Special Advisor on health care for former Governor Deval Patrick (MA). Through these positions\, he advised the passage of Chapter 58 of the Acts of 2006 and Chapter 224 of the Acts of 2012. David is a 2003 graduate of Boston College and originally from Minnesota. He was a recipient of Modern HealthCare’s 2015 Up and Comer Award\, which recognizes young executives that have made significant contributions in the areas of healthcare administration\, management\, or policy. \nRead more \nAgenda\n\n\n\n7:00 to 7:30 AM\nContinental Breakfast and Registration\n\n\n7:30 to 8:30 AM\nRemarks and Discussion\n\n\n\nInvestment\n$20 ACHE of Massachusetts Members\n$30 Non-members\n*$20 Full-Time Healthcare Administration Students and those “In Transition”\n*Please have your Student ID available to show at the registration desk. \nOnline Registration \nCANCELLATION: To cancel your registration\, please notify us in writing no later than one week prior to the event for a refund\, less a $5 nonrefundable processing. If a cancellation takes place less than 3 days prior to the event\, no refunds will be given; however\, you may send a substitute in your place.
URL:https://massache.org/event/breakfast-with-healthcare-champions-series-breakfast-with-david-seltz-4-2/
LOCATION:Suffolk University\, The Commons 5th Floor\, 120 Tremont Street\, Boston\, MA\, 02108\, United States
END:VEVENT
END:VCALENDAR