BEGIN:VCALENDAR
VERSION:2.0
PRODID:-//ACHE of Massachusetts - ECPv6.15.18//NONSGML v1.0//EN
CALSCALE:GREGORIAN
METHOD:PUBLISH
X-WR-CALNAME:ACHE of Massachusetts
X-ORIGINAL-URL:https://massache.org
X-WR-CALDESC:Events for ACHE of Massachusetts
REFRESH-INTERVAL;VALUE=DURATION:PT1H
X-Robots-Tag:noindex
X-PUBLISHED-TTL:PT1H
BEGIN:VTIMEZONE
TZID:UTC
BEGIN:STANDARD
TZOFFSETFROM:+0000
TZOFFSETTO:+0000
TZNAME:UTC
DTSTART:20180101T000000
END:STANDARD
END:VTIMEZONE
BEGIN:VEVENT
DTSTART;TZID=UTC:20190925T080000
DTEND;TZID=UTC:20190925T120000
DTSTAMP:20260421T150449
CREATED:20190813T231122Z
LAST-MODIFIED:20190813T231122Z
UID:4806-1569398400-1569412800@massache.org
SUMMARY:ACHE of MA Conference Presented by the Central/Western MA Local Area Council: Diversity\, Equity and Inclusion in Healthcare:  Tools for Implementing Actionable Strategies
DESCRIPTION:Wednesday\, September 25\, 2019\n8:00 AM – Noon\nBaystate Health and Education Center\n361 Whitney Avenue\, Holyoke\, MA \nIn today’s healthcare market\, the business case for diversity\, equity and inclusion is clear. How are organizations building comprehensive strategies and measuring results? How is it helping to create a competitive advantage and provide care that is culturally responsive to the community’s needs? This conference will focus on the tools that healthcare organizations are using to operationalize their diversity\, equity and inclusion plans. \nOnline Registration \nKeynotes\n\nJoanne Marqusee\, President and CEO\, Cooley Dickinson Health\nAmelia Spiliotes\, CEO\, Community Health Programs\n\nPanelists\n\nSarah Perez McAdoo MD\, Population Health Capstone Director for the Population based Urban and Rural Community Health (PURCH) Track\, University of Massachusetts Medical School – Baystate\nLinda Rappaport\, Managing Partner\, Gazelle Strategic Partners\, LLC\nFrank Robinson\, Vice President\, Public Health\, Baystate Health\nBetsy Shally-Jensen\, Director of Diversity\, Equity & Inclusion\, Cooley Dickinson Heath Care\nModerator: Carla Villacorta\, ACHE of MA Diversity & Inclusion Committee and Healthcare Consultant\nAnd our Keynotes\n\nSpeaker Bios \nAgenda\n\n\n\n8:00 AM\nRegistration\, Breakfast and Networking\n\n\n8:25 AM\nOpening Remarks\n\n\n8:30 AM\nKeynote: \n\nJoanne Marqusee\, President and CEO\, Cooley Dickinson Health\n\n\n\n\n9:15 AM\nKeynote: \n\nAmelia Spiliotes\, CEO\, Community Health Programs\n\n\n\n\n10:00 AM\nNetworking Break\n\n\n10:30 AM\nPanel Discussion\n\n\nNoon\nClosing Remarks\n\n\n12:05 PM\nLunch\n\n\n\nInvestment\n$99 ACHE of Massachusetts/ACHE Members\n$150 Non-members (Join ACHE to receive the Member Rate.)\n*$35 Healthcare Administration Students and those “In Transition” \n*Students must be in a full-time Healthcare Administration Master’s Program. A Student ID will be requested upon check-in on conference day. \n\nThe American College of Healthcare Executives has awarded 1.5 ACHE Face-to-Face Education Credits to this program.\n1.5 ACHE Qualified Education credits have been approved for the Keynote portion of this program.\n\nCANCELLATION: To cancel your registration\, please notify us in writing no later than one week prior to the event for a refund\, less a $25 nonrefundable processing. If a cancellation takes place less than 3 days prior to the event\, no refunds will be given; however\, you may send a substitute in your place. \n  \nOnline Registration
URL:https://massache.org/event/ache-of-ma-conference-presented-by-the-central-western-ma-local-area-council-diversity-equity-and-inclusion-in-healthcare-tools-for-implementing-actionable-strategies-4-2/
LOCATION:Baystate Health and Education Center\, 361 Whitney Ave\, Holyoke\, MA\, 01040\, United States
END:VEVENT
END:VCALENDAR