BEGIN:VCALENDAR
VERSION:2.0
PRODID:-//ACHE of Massachusetts - ECPv6.15.18//NONSGML v1.0//EN
CALSCALE:GREGORIAN
METHOD:PUBLISH
X-ORIGINAL-URL:https://massache.org
X-WR-CALDESC:Events for ACHE of Massachusetts
REFRESH-INTERVAL;VALUE=DURATION:PT1H
X-Robots-Tag:noindex
X-PUBLISHED-TTL:PT1H
BEGIN:VTIMEZONE
TZID:UTC
BEGIN:STANDARD
TZOFFSETFROM:+0000
TZOFFSETTO:+0000
TZNAME:UTC
DTSTART:20190101T000000
END:STANDARD
END:VTIMEZONE
BEGIN:VEVENT
DTSTART;TZID=UTC:20200323T180000
DTEND;TZID=UTC:20200323T200000
DTSTAMP:20260422T010123
CREATED:20200226T224131Z
LAST-MODIFIED:20200226T224131Z
UID:4845-1584986400-1584993600@massache.org
SUMMARY:CANCELED: MA Chapter Pizza Party at ACHE Congress
DESCRIPTION:Due to ACHE Congress being canceled this event will no longer take place.  If you registered and paid we will refund your payment by Tuesday\, March 10\, 2020.\nAre you attending ACHE Congress in March?\nJoin your MA colleagues from the ACHE of MA Chapter at an authentic “Chicago Pizza Party!” \nMonday\, March 23\, 2020 | 6:00 – 8:00 PM \nBella Bacino’s\n66 E. Wacker Pl\nChicago\, IL 60601\n(A 5 minute walk from the Hyatt Regency.) \nCost: $40 per person (Includes: salads\, pizzas\, desserts and one glass of wine or beer.) \nRegister by Thursday\, March 19th at noon. \n 
URL:https://massache.org/event/ma-chapter-pizza-party-at-ache-congress-2-5/
LOCATION:Bella Bacino’s\, 66 E. Wacker Pl\, Chicago\, IL\, 60601\, United States
END:VEVENT
END:VCALENDAR