BEGIN:VCALENDAR
VERSION:2.0
PRODID:-//ACHE of Massachusetts - ECPv6.15.18//NONSGML v1.0//EN
CALSCALE:GREGORIAN
METHOD:PUBLISH
X-ORIGINAL-URL:https://massache.org
X-WR-CALDESC:Events for ACHE of Massachusetts
REFRESH-INTERVAL;VALUE=DURATION:PT1H
X-Robots-Tag:noindex
X-PUBLISHED-TTL:PT1H
BEGIN:VTIMEZONE
TZID:UTC
BEGIN:STANDARD
TZOFFSETFROM:+0000
TZOFFSETTO:+0000
TZNAME:UTC
DTSTART:20190101T000000
END:STANDARD
END:VTIMEZONE
BEGIN:VEVENT
DTSTART;TZID=UTC:20200527T180000
DTEND;TZID=UTC:20200527T190000
DTSTAMP:20260422T034914
CREATED:20200520T182650Z
LAST-MODIFIED:20200520T182650Z
UID:4866-1590602400-1590606000@massache.org
SUMMARY:ACHE of MA's First Virtual After 5
DESCRIPTION:ACHE of MA is thrilled to bring our members our first\n“Virtual After 5” on Wednesday\, May 27\nNow more than ever\, Massachusetts healthcare leaders need to come together for a sense of community and support as we see the state start the recovery process from COVID-19. \nGrab your favorite beverage and connect with other members for an hour of virtual dialogue and networking! This is a great way to catch up with those across the state who you might not have seen for some time\, is beneficial to new members to start to make connections\, and also helps to bring together professionals across many different stages of their careers in a virtual format. \nRegistration is complimentary\, but required.\nPlease submit any questions\, topics or thoughts to share on the registration form. \nCLICK HERE TO REGISTER NOW
URL:https://massache.org/event/ache-of-mas-first-virtual-after-5-2-4/
END:VEVENT
END:VCALENDAR