BEGIN:VCALENDAR
VERSION:2.0
PRODID:-//ACHE of Massachusetts - ECPv6.15.18//NONSGML v1.0//EN
CALSCALE:GREGORIAN
METHOD:PUBLISH
X-ORIGINAL-URL:https://massache.org
X-WR-CALDESC:Events for ACHE of Massachusetts
REFRESH-INTERVAL;VALUE=DURATION:PT1H
X-Robots-Tag:noindex
X-PUBLISHED-TTL:PT1H
BEGIN:VTIMEZONE
TZID:UTC
BEGIN:STANDARD
TZOFFSETFROM:+0000
TZOFFSETTO:+0000
TZNAME:UTC
DTSTART:20190101T000000
END:STANDARD
END:VTIMEZONE
BEGIN:VEVENT
DTSTART;TZID=UTC:20200624T173000
DTEND;TZID=UTC:20200624T183000
DTSTAMP:20260422T052032
CREATED:20200601T234411Z
LAST-MODIFIED:20200601T234411Z
UID:4886-1593019800-1593023400@massache.org
SUMMARY:WEBINAR: The C-Suite on the Frontlines During the COVID-19 Crisis
DESCRIPTION:“The C-Suite on the Frontlines During the COVID-19 Crisis”\n-What we did (and didn’t) do.\n-What we’re doing now.\n-What we’re doing next…\nProgram approved for 1.0 Hour of ACHE Qualified Education Credits\nThe COVID-19 pandemic spread across the entire world with lightening speed\, stealthily bringing frightening illness and the specter of death while scientists and clinicians struggled to understand the coronavirus and to learn the twists and turns of the disease course\, and collaborated trying to find the best ways to treat the patients in their care. \nHealthcare organizations activated disaster plans\, contended with critical shortages of PPE and ventilators\, and stood up surge ICU bed capacity and created COVID recovery centers. \nHear from an outstanding panel of local Massachusetts hospital CEO’s about how they managed and what they learned while leading their organizations through the demanding “Phase 1” of the COVID-19 crisis — and what they are doing to forge the way ahead and to meet the ongoing challenges of the global pandemic. \nACHE of Massachusetts is proud to co-host this program with ACHE Rhode Island and the Connecticut Association of Healthcare Executives. \nLearning Objectives:\n1. Recap lessons learned from the initial surge of COVID.\n2. Prepare for recovery and new normal in the hospitals.\n3. How to plan for the future and an inevitable(?) second wave. \nREGISTRATION COMPLIMENTARY – \nCLICK HERE TO SAVE YOUR SPOT! \nMeet Our Panelists: \nKim Hollon\, President and CEO\, Signature Healthcare\nMr. Kim Norton Hollon\, FACHE has been President and CEO at Signature Healthcare Brockton Hospital since July 1\, 2010.  Signature is safety net health system managing population risk.  The system has achieved stable profitability while reducing total medical expense and improving quality through numerous innovative initiatives.  For multiple years Signature has sustained a 70+% decrease in employee injures and patient serious safety events. Kim has over 30 years’ of hospital c-suite experience serving hospitals in Pennsylvania and for many years in Dallas\, Texas. Mr. Hollon has a Bachelor’s degree in Business Administration from University of Montevallo in Montevallo\, Alabama\, and a Master’s Degree in Hospital and Health Administration from the University of Alabama in Birmingham. \n  \nMichael Gustafson\, MD\, MBA\, President\, UMassMemorial Medical Center\nPrior to his current role\, Dr. Gustafson had progressive senior leadership roles at Brigham and Women’s Hospital over nearly two decades\, and directed departments including pharmacy\, pathology\, neurology\, psychiatry\, and the Neurosciences Institute. He has worked with staff throughout the Brigham family to develop and coordinate strategies for performance improvement\, patient safety\, quality of care and performance measurement and analysis. He founded and directed Brigham and Women’s Center for Clinical Excellence from 2001 until 2011. The center has been a widely regarded role model for how to effectively organize and support improvement activities within a large complex academic center. Dr. Gustafson has also served as a member and chair of multiple committees focused on patient affordability\, process improvement and care redesign for the Partners HealthCare system\, of which Brigham and Women’s Hospital is a founding member. \n  \nDeborah Wilson\, President and CEO\, Lawrence General Hospital\nMs. Wilson has more than 34 years of experience in health care finance and operations. Prior to becoming president and chief executive officer at Lawrence General\, she served as chief executive officer at Bridgewater Goddard Park Medical Associates and as the senior vice president of Operations at Signature Healthcare. She spent six years at Deloitte Haskins & Sells and then worked at Partners HealthCare System. \n  \nMeet Our Moderator:\n \nJoni R. Beshansky\, LP.D.\, MPH\nDirector\, Master of Healthcare Administration\nBoston College\, Woods College of Advancing Studies\nDr. Joni Beshansky is an Associate Professor\, and Director of the Healthcare Administration graduate program in the Woods College of Advancing Studies at Boston College. Appointed in June 2019\, she brings more than 20 years of experience as an educator\, research scientist\, and innovative leader. Her expertise in developing\, designing\, and executing complex strategies for major clinical research initiatives\, complemented by her background in law and policymaking\, provide her with a transdisciplinary perspective on the healthcare industry. In her role as an educator she teaches health policy and politics\, and health ethics and law.  Dr. Beshansky has a Master of Public Health from Boston University and a Doctor of Law and Policy from Northeastern University.
URL:https://massache.org/event/the-c-suite-on-the-frontlines-during-the-covid-19-crisis-2-4/
END:VEVENT
END:VCALENDAR