BEGIN:VCALENDAR
VERSION:2.0
PRODID:-//ACHE of Massachusetts - ECPv6.15.18//NONSGML v1.0//EN
CALSCALE:GREGORIAN
METHOD:PUBLISH
X-ORIGINAL-URL:https://massache.org
X-WR-CALDESC:Events for ACHE of Massachusetts
REFRESH-INTERVAL;VALUE=DURATION:PT1H
X-Robots-Tag:noindex
X-PUBLISHED-TTL:PT1H
BEGIN:VTIMEZONE
TZID:UTC
BEGIN:STANDARD
TZOFFSETFROM:+0000
TZOFFSETTO:+0000
TZNAME:UTC
DTSTART:20190101T000000
END:STANDARD
END:VTIMEZONE
BEGIN:VEVENT
DTSTART;TZID=UTC:20201110T170000
DTEND;TZID=UTC:20201201T190000
DTSTAMP:20260422T133319
CREATED:20200318T225104Z
LAST-MODIFIED:20200318T225104Z
UID:4846-1605027600-1606849200@massache.org
SUMMARY:Building Healthcare for the Future: ACHE of MA's Virtual Fall Conference Series
DESCRIPTION:“Building Healthcare for the Future”\nACHE of MA’s Re-Imagined Fall Conference Series\nRegister now to join us as we pivot to a dynamic virtual three part series!\nIf you missed the first session\, you can still register to watch the other two live and receive Session 1 on demand!\nThis program has been approved for 6.0 hours of ACHE Qualified Education credits!\n\nSession 1 – Tuesday\, November 10\, 2020\n5:00 pm – 7:00 pm\nClosing the Racial and Socioeconomic Divide:  Re-imagining a Healthcare Delivery System that Addresses the Needs of All Americans\n*Presentation of the 2nd Annual D&I Award to be done during this session!*\nSession 2 – Tuesday\, November 17\n5:00 pm – 7:00 pm\nClosing the Innovation Gap:  How COVID-19 Will Accelerate Digital Transformation and Drive a More Value-Driven Approach to Healthcare Delivery\nSession 3 – Tuesday\, December 1\n5:00 pm – 7:00 pm\nClosing the Payment Gap:  Fundamental Transformation in Healthcare Delivery is Predicated on Innovation in Payment Models\n\n\n\nCOVID-19 – our most recent and still ongoing healthcare challenge –  has come with misery\, death\, hardship\, uncertainty and economic challenge. For diverse communities\, it has put a stark spotlight on the massive disparities they face in health conditions\, access to care and further emphasized the need to pay more attention to the social determinants of health. Compounding the coronavirus challenges\, horrifying acts of racism and violence against people of color were publicly exposed\, putting yet another spotlight on inequities that have existed in our country for centuries and establishing without a doubt\, that racism is a public health crisis. \nAs the pandemic merged individual and societal needs\, providers\, healthcare leaders\, insurance companies\, government and citizens did what had to be done despite all of the existing barriers. The entire healthcare community came together to innovate and effectively transform care as never before. Healthcare organizations focused on mission\, temporarily disregarding the skyrocketing treatment expenses and loss of revenue that are significantly impacting their financial viability. We also witnessed daily humanism and heroism in every community and organization. Doctors\, nurses\, provider teams\, support staff and essential workers rose to the challenge\, putting their own lives and health in jeopardy beyond normal limits. \nThe uncertainty of the crisis bred innovation and caused major transformations in the healthcare system. As healthcare leaders where do we go from here? Will we revert to old methods or will this moment provide the catalyst to make meaningful change and re-imagine a health system that truly provides exceptional health to all regardless of race\, creed\, gender\, sexual orientation\, religion or economic circumstances and that focuses on the things that really matter? \nThis conference will explore: \n— Why we must redesign our healthcare system and what this will take.\n— What leading organizations\, states and countries are doing to provide superior care to all at a lower cost.\n— How government\, payors\, providers\, and regulatory bodies can facilitate a redesigned healthcare system.\n— The changing expectations and demands of patients and the public.\n— A roadmap for the healthcare system of the future. \n\nJoin us at this remarkable point in history and support meaningful change.  \nIf you missed the first session\, you can still register to watch the other two live and receive Session 1 on demand!\nREGISTRATION NOW LIVE –\nCLICK HERE TO REGISTER! \nACHE\, MHA and NESHS MEMBERS: $49.00\nSTUDENTS: $25.00\nNON-MEMBERS: $99.00\nCo-sponsored by the Massachusetts Health and Hospital Association \n \n\nSession Details and Speakers: \nSession 1 – Tuesday\, November 10\, 2020\n5:00 pm – 7:00 pm\nClosing the Racial and Socioeconomic Divide:  Re-imagining a Healthcare Delivery System that Addresses the Needs of All Americans\nTo kick-off our series\, Session 1 will feature a diversity\, equity and inclusion virtual roundtable discussion featuring: \n \n \nThis session will also feature our 2nd Annual Diversity and Inclusion Award! \nClick here to view the full agenda for November 10 and speaker bios!\n\nSession 2 – Tuesday\, November 17\n5:00 pm – 7:00 pm\nClosing the Innovation Gap:  How COVID-19 Will Accelerate Digital Transformation and Drive a More Value-Driven Approach to Healthcare Delivery\n \nThis session will cover: \n-Different models of healthcare that other industrialized nations are providing and if there is a system that the United States should consider replicating. \n-Lessons learned from other countries who had different approaches in their COVID-19 response and had better health outcomes. \n-How epidemiological surveillance data is used to improve public health systems in this country. \n-What providers can be doing to prepare for the changes coming in our healthcare system. \n-The potential impact that big data can have on improving healthcare\, targeting of disease prevention and health promotion\, and reducing cost. \nClick here to view the full agenda for November 17 and speaker bios!\n\nSession 3 – Tuesday\, December 1\n5:00 pm – 7:00 pm\nClosing the Payment Gap:  Fundamental Transformation in Healthcare Delivery is Predicated on Innovation in Payment Models\nThis session will feature a closing keynote presented by:  \nDr. Farzad Mostashari\, CEO of Aledade\n \nClick here to view the full agenda for December 1 and speaker bio!
URL:https://massache.org/event/virtualfallconference-2-5/
END:VEVENT
BEGIN:VEVENT
DTSTART;TZID=UTC:20201113T120000
DTEND;TZID=UTC:20201113T130000
DTSTAMP:20260422T133319
CREATED:20200925T051459Z
LAST-MODIFIED:20200925T051459Z
UID:4944-1605268800-1605272400@massache.org
SUMMARY:2020 Election Debrief: Implications for Healthcare - A Virtual Panel Discussion
DESCRIPTION:2020 Election Debrief: Implications for Healthcare\nA Jointly Hosted Complimentary Webinar by MHA and ACHE of Massachusetts \nFriday\, November 13\, 2020 | 12 – 1 p.m. EST \n \n2020 has been quite a year for healthcare in Massachusetts\, and further changes are in store regardless of the upcoming election’s outcome. Join ACHE of Massachusetts and MHA for this insightful panel discussion to debrief on election results and what is ahead for healthcare at the federal and state level in 2021 and beyond. \nMark Rayder and Marilyn Yager\, senior policy advisors in Alston & Bird’s healthcare public policy practice\, will be presenting on a variety of topics\, including:\n• Election debrief and the effect on Massachusetts hospitals and healthcare organizations\n• Healthcare outlook at the federal level\n• What’s ahead for 2021 \nREGISTER NOW\nThis event has been approved for 1.0 hour of ACHE Qualified Education credits.  \n\nMeet Our Speakers:\nMark Rayder is a senior policy advisor in Alston & Bird’s healthcare public policy practice\, providing political expertise on a variety of healthcare topics and assisting clients on legislative and regulatory issues. Before joining the firm\, Mark served in the public\, political\, corporate\, and non-profit sectors. Most recently\, he was vice president of public policy for the American College of Gastroenterology and the senior manager of government affairs at a Fortune 500 Internet and telecommunications corporation. Named a “Top Lobbyist” by The Hill newspaper every year since 2010\, Mark served as an advisor to three Republican members of Congress\, including as associate staff to the House Commerce\, Justice\, State and Judiciary Appropriations Subcommittee. He also managed two successful congressional campaigns. His policy expertise includes payment and regulatory policies pertaining to physician and hospital services\, specialty health plans\, post-acute care\, veteran’s health programs\, and appropriations. Mark received a B.A. in history from the Catholic University of America in Washington\, D.C. \nMarilyn Yager is a senior policy advisor in Alston & Bird’s healthcare public policy practice\, providing policy and political insight on a variety of healthcare issues\, with an emphasis on Medicare and Medicaid\, and currently issues relating to COVID-19. Marilyn has more than 30 years of senior management\, policy\, and government experience in both the public and private sectors. Her public sector experience includes several roles in the Executive Branch\, serving as both chief of staff to the White House chief of staff and deputy assistant to President Clinton on health and budget in the Office of Public Liaison. She also served as professional staff on the Senate Labor and Human Resources Committee for Massachusetts Senator John Kerry and spent five years as a legislative aide in the House of Representatives. Marilyn served as the first Executive Director of the Schwartz Center for Compassionate Care. Her considerable experience in government affairs includes having served as executive director of the Renal Leadership Council\, director of health policy at Vanderbilt University Medical Center\, and director of federal relations for the Massachusetts Health & Hospital Association prior to joining the Clinton White House. An Iowa native\, Marilyn began her career in the Cascade Mountains as a Volunteer in Service to America (VISTA)—the national public service program and is a graduate of the University of Iowa.
URL:https://massache.org/event/2020-election-debrief-implications-for-healthcare-a-virtual-panel-discussion-2-4/
END:VEVENT
END:VCALENDAR