BEGIN:VCALENDAR
VERSION:2.0
PRODID:-//ACHE of Massachusetts - ECPv6.15.18//NONSGML v1.0//EN
CALSCALE:GREGORIAN
METHOD:PUBLISH
X-ORIGINAL-URL:https://massache.org
X-WR-CALDESC:Events for ACHE of Massachusetts
REFRESH-INTERVAL;VALUE=DURATION:PT1H
X-Robots-Tag:noindex
X-PUBLISHED-TTL:PT1H
BEGIN:VTIMEZONE
TZID:UTC
BEGIN:STANDARD
TZOFFSETFROM:+0000
TZOFFSETTO:+0000
TZNAME:UTC
DTSTART:20190101T000000
END:STANDARD
END:VTIMEZONE
BEGIN:VEVENT
DTSTART;TZID=UTC:20201209T173000
DTEND;TZID=UTC:20201209T190000
DTSTAMP:20260422T151223
CREATED:20201128T224105Z
LAST-MODIFIED:20201128T224105Z
UID:4964-1607535000-1607540400@massache.org
SUMMARY:ACHE of MA's Early Careerist Network Virtual Dinner with the C-Suite
DESCRIPTION:Twenty-eight Early Careerists are invited to join ACHE of Massachusetts Early Careerist Network for our Virtual Dinner with the C-Suite! \nAttendees will engage in networking\, dinner* and learn some pearls of wisdom from the C-Suite\, as they will talk about their career journey and answer your questions about your career path.\n*ACHE of MA Early Careerist Network will provide attendees with a gift certificate to redeem for a take-out dinner. \n\nAgenda:\n5:30 – 6:30 PM\nDinner and Discussion with the C-Suite\n6:30 – 7:00 PM\nOpen Forum Question and Answer with the C-Suite \n\nIt’s complimentary to attend this great opportunity! \nREGISTRATION IS BASED UPON REQUEST AND APPROVAL\nHow are attendees chosen? If you are interested in attending\, please register with this link below by Sunday\, December 6. The applicants will be reviewed and approved registrants will receive an approval status and a link to the program by December 7. Those not chosen for the event will be notified as well and invited to participate in our next program. \nRegistration is now closed. \n\nOur C-Suite Attendees:\n \nJohn Christoforo\, Retired President & CEO\, Beth Israel Deaconess HealthCare \n  \n  \n  \n  \nJohn Fogarty\, FACHE\, President & CEO\, Beth Israel Deaconess Hospital-Needham \n  \n  \n  \n  \nChristine Schuster\, President & CEO\, Emerson Hospital \n  \n  \n  \n  \nComments from last year’s in person event attendees:\n-“The event was an excellent way to speak directly with executives in a friendly\, knowledge-sharing environment.”\n-“Having one CEO at each dinner table to further pick their brains led to awesome conversation.”\n-“Hearing the CEO’s backgrounds and how they got to their current roles was very interesting.”\n-“It’s also always great to be reminded of what they’re looking for in the upcoming generation of leaders.”\n-“I loved hearing their intros\, experiences\, words to live by and their recommendations.”
URL:https://massache.org/event/ache-of-mas-early-careerist-network-virtual-dinner-with-the-c-suite-2-4/
END:VEVENT
END:VCALENDAR