BEGIN:VCALENDAR
VERSION:2.0
PRODID:-//ACHE of Massachusetts - ECPv6.15.18//NONSGML v1.0//EN
CALSCALE:GREGORIAN
METHOD:PUBLISH
X-WR-CALNAME:ACHE of Massachusetts
X-ORIGINAL-URL:https://massache.org
X-WR-CALDESC:Events for ACHE of Massachusetts
REFRESH-INTERVAL;VALUE=DURATION:PT1H
X-Robots-Tag:noindex
X-PUBLISHED-TTL:PT1H
BEGIN:VTIMEZONE
TZID:UTC
BEGIN:STANDARD
TZOFFSETFROM:+0000
TZOFFSETTO:+0000
TZNAME:UTC
DTSTART:20200101T000000
END:STANDARD
END:VTIMEZONE
BEGIN:VEVENT
DTSTART;TZID=UTC:20210921T080000
DTEND;TZID=UTC:20210921T093000
DTSTAMP:20260423T053711
CREATED:20210421T182442Z
LAST-MODIFIED:20210421T182442Z
UID:5005-1632211200-1632216600@massache.org
SUMMARY:Virtual Breakfast with Healthcare Champions\, Featuring Dr. Peter Slavin
DESCRIPTION:Grab your favorite morning beverage and register to join us as we are provided a morning of inspiration by Peter Slavin\, MD! \nDr. Slavin will share his journey throughout his amazing healthcare career. Afterwards\, we will break out into Zoom networking rooms to recap the lessons learned. \n\nAgenda \n8:00am – 8:45am\nA Moderated Discussion with Peter Slavin\, MD \n8:45am – 9:00am\nQuestion & Answer  \n9:00am – 9:30am\nVirtual Networking Breakout Sessions \nRegistration \nACHE / NESHS / Hospital Association Members: $15.00\nFuture Members: $30.00\nStudents & Early Careerists: Complimentary \nClick Here to Register Now\n\nMeet Our Speaker! \nPETER L. SLAVIN\, MD \n \nPeter L. Slavin\, MD became the President of Massachusetts General Hospital on January 1\, 2003.  From 1999-2002\, he served as Chairman and Chief Executive Officer of the Massachusetts General Physicians Organization\, which included over 1\,700 physicians and employed nearly 1\,000 of them. \nFrom 1997 to 1999\, Dr. Slavin served as President of Barnes-Jewish Hospital in St. Louis\, Missouri.  Before that\, he did his training in Internal Medicine at Massachusetts General Hospital from 1984 to 1987 and was Senior Vice President and Chief Medical Officer from 1994 to 1997. \nDr. Slavin graduated from Harvard College in 1979\, Harvard Medical School in 1984\, and Harvard Business School in 1990. Dr. Slavin teaches health care management at Harvard Medical School where he is a Professor of Health Care Policy. \nHe serves on the Boards of Amwell (a publicly traded telemedicine company) and the University of Miami Health System.  He is former board chair of the Association of American Colleges and the Massachusetts Hospital Association. He is a senior advisor and advisory board member at Arsenal Capital Partners (a New York based private equity firm). He is a member of the National Academy of Medicine and the American Academy of Arts and Sciences
URL:https://massache.org/event/virtual-breakfast-with-healthcare-champions-featuring-dr-peter-slavin-2-4/
END:VEVENT
END:VCALENDAR