BEGIN:VCALENDAR
VERSION:2.0
PRODID:-//ACHE of Massachusetts - ECPv6.15.18//NONSGML v1.0//EN
CALSCALE:GREGORIAN
METHOD:PUBLISH
X-WR-CALNAME:ACHE of Massachusetts
X-ORIGINAL-URL:https://massache.org
X-WR-CALDESC:Events for ACHE of Massachusetts
REFRESH-INTERVAL;VALUE=DURATION:PT1H
X-Robots-Tag:noindex
X-PUBLISHED-TTL:PT1H
BEGIN:VTIMEZONE
TZID:UTC
BEGIN:STANDARD
TZOFFSETFROM:+0000
TZOFFSETTO:+0000
TZNAME:UTC
DTSTART:20210101T000000
END:STANDARD
END:VTIMEZONE
BEGIN:VEVENT
DTSTART;TZID=UTC:20220328T080000
DTEND;TZID=UTC:20220331T170000
DTSTAMP:20260423T054837
CREATED:20211217T223152Z
LAST-MODIFIED:20211217T223152Z
UID:5064-1648454400-1648746000@massache.org
SUMMARY:2022 Congress on Healthcare Leadership
DESCRIPTION:Welcome to the Congress\non Healthcare Leadership\nJoin leaders from across the care continuum in-person at the 2022 Congress on Healthcare Leadership to gather solutions\, tools and resources to advance healthcare in your organizations and communities. Select from more than 130 sessions to personalize your schedule. \nThe safety of our Congress participants\, faculty\, exhibitors and staff remain a top priority. \nClick here to register for ACHE’s Congress on Healthcare Leadership.
URL:https://massache.org/event/2022-congress-on-healthcare-leadership-2-4/
END:VEVENT
END:VCALENDAR