BEGIN:VCALENDAR
VERSION:2.0
PRODID:-//ACHE of Massachusetts - ECPv6.15.18//NONSGML v1.0//EN
CALSCALE:GREGORIAN
METHOD:PUBLISH
X-WR-CALNAME:ACHE of Massachusetts
X-ORIGINAL-URL:https://massache.org
X-WR-CALDESC:Events for ACHE of Massachusetts
REFRESH-INTERVAL;VALUE=DURATION:PT1H
X-Robots-Tag:noindex
X-PUBLISHED-TTL:PT1H
BEGIN:VTIMEZONE
TZID:UTC
BEGIN:STANDARD
TZOFFSETFROM:+0000
TZOFFSETTO:+0000
TZNAME:UTC
DTSTART:20210101T000000
END:STANDARD
END:VTIMEZONE
BEGIN:VEVENT
DTSTART;TZID=UTC:20220411T080000
DTEND;TZID=UTC:20220412T170000
DTSTAMP:20260423T072858
CREATED:20211217T223425Z
LAST-MODIFIED:20211217T223425Z
UID:5065-1649664000-1649782800@massache.org
SUMMARY:ACHE’s Virtual Leadership Symposium
DESCRIPTION:Welcome to the Virtual\nLeadership Symposium\nYou’re invited to this premier virtual healthcare leadership event. From the convenience of your home or office\, over two days: \n\nEarn up to 6 ACHE Face-to-Face Education and continuing medical education credits.\nHear from 90 faculty in more than 30 virtual live sessions.\nGather solutions\, tools and resources to continue advancing healthcare in your communities.\n\nMaximize your experience; Congress registrants can receive a discounted registration. \nRegister for the Virtual Leadership Symposium Only\nRegister for the Virtual Leadership Symposium with Congress on Healthcare Leadership 
URL:https://massache.org/event/aches-virtual-leadership-symposium-2-4/
END:VEVENT
END:VCALENDAR