BEGIN:VCALENDAR
VERSION:2.0
PRODID:-//ACHE of Massachusetts - ECPv6.15.18//NONSGML v1.0//EN
CALSCALE:GREGORIAN
METHOD:PUBLISH
X-ORIGINAL-URL:https://massache.org
X-WR-CALDESC:Events for ACHE of Massachusetts
REFRESH-INTERVAL;VALUE=DURATION:PT1H
X-Robots-Tag:noindex
X-PUBLISHED-TTL:PT1H
BEGIN:VTIMEZONE
TZID:UTC
BEGIN:STANDARD
TZOFFSETFROM:+0000
TZOFFSETTO:+0000
TZNAME:UTC
DTSTART:20210101T000000
END:STANDARD
END:VTIMEZONE
BEGIN:VEVENT
DTSTART;TZID=UTC:20220511T173000
DTEND;TZID=UTC:20220511T184000
DTSTAMP:20260423T041428
CREATED:20210710T050455Z
LAST-MODIFIED:20210710T050455Z
UID:5024-1652290200-1652294400@massache.org
SUMMARY:ACHE of MA Virtual Book Club
DESCRIPTION:ACHE of Massachusetts Early Careerist Network is excited to host a virtual book club event to discuss:\n\n“Team of Rivals:\nThe Political Genius of Abraham Lincoln” \nThis program is open to all ACHE Members – you do not need to be an early careerist to attend! \n\n\nAgenda\n5:30pm – 6:40pm  \nWelcome\nBreakout Sessions\nLarge Group Discussions\nClosing\nOptional Networking Breakouts \n  \nPurchase the book here\nRead HBR’s Leadership Lessons from Abraham Lincoln \nIt’s complimentary to attend – register here! \nRan out of time and didn’t get a chance to finish the book? That’s ok! Still join us to discuss a broad swath of leadership topics.  \n\nSession to be moderated by two of ACHE of MA Senior Healthcare Leaders! \n  \nJohn Christoforo\, FACHE\nRetired President\, Beth Israel Lahey Health\nPresident\, Christoforo Healthcare Consulting \n  \n  \n  \nKathy Sucich\, MBA\nVice President of Marketing\nDimensional Insight\nACHE of MA Board Secretary \n 
URL:https://massache.org/event/virtualbookclub-2-4/
END:VEVENT
END:VCALENDAR