BEGIN:VCALENDAR
VERSION:2.0
PRODID:-//ACHE of Massachusetts - ECPv6.15.18//NONSGML v1.0//EN
CALSCALE:GREGORIAN
METHOD:PUBLISH
X-ORIGINAL-URL:https://massache.org
X-WR-CALDESC:Events for ACHE of Massachusetts
REFRESH-INTERVAL;VALUE=DURATION:PT1H
X-Robots-Tag:noindex
X-PUBLISHED-TTL:PT1H
BEGIN:VTIMEZONE
TZID:UTC
BEGIN:STANDARD
TZOFFSETFROM:+0000
TZOFFSETTO:+0000
TZNAME:UTC
DTSTART:20210101T000000
END:STANDARD
END:VTIMEZONE
BEGIN:VEVENT
DTSTART;TZID=UTC:20220518T120000
DTEND;TZID=UTC:20220518T123000
DTSTAMP:20260423T041428
CREATED:20220401T005424Z
LAST-MODIFIED:20220401T005424Z
UID:5106-1652875200-1652877000@massache.org
SUMMARY:Disparities in Maternal Health: Connecting Community Advocacy to Clinical Practice\, hosted by ACHE of MA\, MHA & MMS
DESCRIPTION:Focus on DHE&I:\nDiversity\, Health Equity\, & Inclusion Best Practices\nWebinar Series \nDisparities in Maternal Health: Connecting Community Advocacy to Clinical Practice \nWednesday\, May 18\, 2022 | 12-12:45 p.m. \nRegister Today!\nRacial inequities in maternal mortality are staggering\, with Black women experiencing mortality rates more than three times that of White women\, according to the Centers for Disease Control and Prevention (CDC). In Massachusetts\, Black women are twice as likely to die from pregnancy or childbirth-related complications. These inequities\, the result of systemic racism in health care\, are unacceptable. Massachusetts passed legislation filed by State Representative Liz Miranda (D-Boston) establishing a commission to make policy recommendations aimed at eliminating racial inequities in maternal health. \nJoin the Massachusetts Medical Society\, the Massachusetts Health & Hospital Association\, and the American College of Healthcare Executives Massachusetts Chapter to learn more about the commission’s recommendations to address racial disparities and promote equity in maternal health outcomes\, including how to connect these policies into clinical practice. This event is also a part of the Medical Society’s annual John Figgis Jewett Lectureship on maternal health.
URL:https://massache.org/event/disparities-in-maternal-health-connecting-community-advocacy-to-clinical-practice-hosted-by-ache-of-ma-mha-mms-2-5/
END:VEVENT
END:VCALENDAR