BEGIN:VCALENDAR
VERSION:2.0
PRODID:-//ACHE of Massachusetts - ECPv6.15.18//NONSGML v1.0//EN
CALSCALE:GREGORIAN
METHOD:PUBLISH
X-WR-CALNAME:ACHE of Massachusetts
X-ORIGINAL-URL:https://massache.org
X-WR-CALDESC:Events for ACHE of Massachusetts
REFRESH-INTERVAL;VALUE=DURATION:PT1H
X-Robots-Tag:noindex
X-PUBLISHED-TTL:PT1H
BEGIN:VTIMEZONE
TZID:UTC
BEGIN:STANDARD
TZOFFSETFROM:+0000
TZOFFSETTO:+0000
TZNAME:UTC
DTSTART:20210101T000000
END:STANDARD
END:VTIMEZONE
BEGIN:VEVENT
DTSTART;TZID=UTC:20221201T080000
DTEND;TZID=UTC:20221202T170000
DTSTAMP:20260422T165317
CREATED:20221117T024908Z
LAST-MODIFIED:20221117T024908Z
UID:5145-1669881600-1670000400@massache.org
SUMMARY:Health Equity Innovations Summit
DESCRIPTION:The Health Equity Innovations Summit is offering ACHE of MA members a 10% discount if you enter ACHE at check out. \nClick the graphic below for more information about this exciting 2 day conference in Boston. \nCLICK HERE FOR MORE INFORMATION
URL:https://massache.org/event/health-equity-innovations-summit-2-5/
LOCATION:sonesta
END:VEVENT
BEGIN:VEVENT
DTSTART;TZID=UTC:20221201T083000
DTEND;TZID=UTC:20221201T140000
DTSTAMP:20260422T165317
CREATED:20220331T235309Z
LAST-MODIFIED:20220331T235309Z
UID:5105-1669883400-1669903200@massache.org
SUMMARY:MHA's Annual Women Leaders in Healthcare Conference
DESCRIPTION:Women Supporting Women:\nStrength in Community Building\nThursday\, December 1\, 2022\n8 a.m. – 2:30 p.m. ET\nThe Westin Waltham\, Waltham\, MA 02451\nACHE of MA Members get the $199 special rate \nby entering promo code ACHE2022 at checkout\nCLICK HERE TO REGISTER \nConference Agenda \n8:00 – 9:00 a.m.: Breakfast and Registration\nVendors: Silver Unicorn Bookstore\, Jennifer’s Handmade Soap and Kitchen Sink Candle Co. \n9:00 – 9:05 a.m.: Welcome\nValerie Fleishman\, SVP and Chief Innovation Officer\, MHA\nVictoria Warren\, Emcee \n9:05 – 10:00 a.m.: Morning Keynote – The Beauty in Breaking\nDr. Michele Harper\, Physician/Writer/Speaker\, NYTimes Bestselling author \n10:00 – 10:20 a.m.: BREAK\nDr. Michele Harper Book Signing\nVendors and Exhibits Open \n10:20 – 11:00 a.m.: Session I: Mentor/Mentee Relationships: The Evolving Role of Women Leaders\nModerator: Victoria Warren\nAimee Brewer\, president & CEO & Justine Zilliken\, Chief Strategy Officer\nSturdy Memorial Hospital\nChristine Schuster\, president & CEO & Renee Fosberg\, VP & CIO\, Emerson Health \n11:00 – 11:20 a.m.: BREAK\nVendors and Exhibits Open \n11:20 a.m. – 12:00 p.m.: Session II: Women’s Health SPOTLIGHT Series\, From Corporate Accountant to Mental Health Pioneer\nNieisha Deed\, Founder\, PureSpark \n12:00 – 12:30 p.m.: LUNCH\nVendors and Exhibits Open \n12:30 – 1:15 p.m.: Afternoon Keynote – Getting and Keeping Your Seat at the Table\nSheila Ronning\, CEO\, Women in the Boardroom \n1:15 – 2:00 p.m.: Session III/ACHE of MA Sponsored Panel:\nWomen in Healthcare Management: Navigating Life and Your Career Journey \nModerator: Angelique Kennison\, MPH\, Director\, Regional Clinical Planning\, MaineHealth \nJoan Clifford\, DNP\, RN\, FACHE\, NEA-BC\, CEO of VA Bedford Healthcare System\nRosemarie Day\, President\, Day Health Strategies\nPetrina Martin\, VP of Engagement and External Affairs at Boston Medical Center\nLynnette Watkins\, CEO and President of Cooley Dickinson Healthcare-Mass General Brigham Affiliate\nYi Ding Yu\, MD\, EVP and Chief Medical Officer\, Olive AI\n2:00 p.m.: Closing Remarks\nRaffle Winners Announced\nVendors and Exhibits close @ 2:30 p.m.
URL:https://massache.org/event/women-leaders-in-healthcare-conference-2-5/
END:VEVENT
END:VCALENDAR