BEGIN:VCALENDAR
VERSION:2.0
PRODID:-//ACHE of Massachusetts - ECPv6.15.18//NONSGML v1.0//EN
CALSCALE:GREGORIAN
METHOD:PUBLISH
X-WR-CALNAME:ACHE of Massachusetts
X-ORIGINAL-URL:https://massache.org
X-WR-CALDESC:Events for ACHE of Massachusetts
REFRESH-INTERVAL;VALUE=DURATION:PT1H
X-Robots-Tag:noindex
X-PUBLISHED-TTL:PT1H
BEGIN:VTIMEZONE
TZID:America/New_York
BEGIN:DAYLIGHT
TZOFFSETFROM:-0500
TZOFFSETTO:-0400
TZNAME:EDT
DTSTART:20220313T070000
END:DAYLIGHT
BEGIN:STANDARD
TZOFFSETFROM:-0400
TZOFFSETTO:-0500
TZNAME:EST
DTSTART:20221106T060000
END:STANDARD
BEGIN:DAYLIGHT
TZOFFSETFROM:-0500
TZOFFSETTO:-0400
TZNAME:EDT
DTSTART:20230312T070000
END:DAYLIGHT
BEGIN:STANDARD
TZOFFSETFROM:-0400
TZOFFSETTO:-0500
TZNAME:EST
DTSTART:20231105T060000
END:STANDARD
BEGIN:DAYLIGHT
TZOFFSETFROM:-0500
TZOFFSETTO:-0400
TZNAME:EDT
DTSTART:20240310T070000
END:DAYLIGHT
BEGIN:STANDARD
TZOFFSETFROM:-0400
TZOFFSETTO:-0500
TZNAME:EST
DTSTART:20241103T060000
END:STANDARD
END:VTIMEZONE
BEGIN:VEVENT
DTSTART;TZID=America/New_York:20230228T170000
DTEND;TZID=America/New_York:20230228T183000
DTSTAMP:20260422T120651
CREATED:20230112T210723Z
LAST-MODIFIED:20230112T210723Z
UID:5146-1677603600-1677609000@massache.org
SUMMARY:Staying Nimble Through the Healthcare Staffing Crisis
DESCRIPTION:SAVE THE DATE – Tuesday\, Feb 28 – REGISTRATION IS OPEN\nThere are only a few spaces remaining!!\n\nClick here for more information and to register\n\nStaying Nimble Through the Healthcare Staffing Crisis\n\nTue\, Feb 28\n5-6:30pm VIRTUAL\n1.5 F2F credits will be applied for through ACHE\n\n\nPandemic challenges\, demographic shifts and other broader economic trends have created a healthcare staffing shortage of epic proportions. Labor costs are rising and people to fill the necessary roles are shrinking. This program will look at the staffing challenges through the lens of creative strategies such as shifting working hours in various ways\, creating new types of workers/roles within systems\, improving the educational pipeline and technology solutions. With Massachusetts being an expensive state\, how can health care organizations attract and retain talent to propel their organizations through this challenging time while building a strong talent pipeline? \nPanelists: \n\nModerator: Carmen Kenrich\, DVP\, Strategic Partnerships\, Client Experience Partnerships\, Client Experience Executive at AMN Leadership Solutions\, Merritt Hawkins\nKyle Deskus\, JD\, Associate General Counsel\, Baystate Health\nPatricia M. Noga\, PhD\, RN\, NEA-BC\, FAAN\, Vice President\, Clinical Affairs\, Massachusetts Health & Hospital Association\nJackie Larson\, EVP Advisory Solutions\, AYA Healthcare\nTherese Fitzpatrick\, Ph.D.\, RN\, FAAN\, Senior Vice President\, Kaufman Hall
URL:https://massache.org/event/save-the-date-registration-is-open-2-5/
END:VEVENT
END:VCALENDAR