BEGIN:VCALENDAR
VERSION:2.0
PRODID:-//ACHE of Massachusetts - ECPv6.15.18//NONSGML v1.0//EN
CALSCALE:GREGORIAN
METHOD:PUBLISH
X-ORIGINAL-URL:https://massache.org
X-WR-CALDESC:Events for ACHE of Massachusetts
REFRESH-INTERVAL;VALUE=DURATION:PT1H
X-Robots-Tag:noindex
X-PUBLISHED-TTL:PT1H
BEGIN:VTIMEZONE
TZID:America/New_York
BEGIN:DAYLIGHT
TZOFFSETFROM:-0500
TZOFFSETTO:-0400
TZNAME:EDT
DTSTART:20220313T070000
END:DAYLIGHT
BEGIN:STANDARD
TZOFFSETFROM:-0400
TZOFFSETTO:-0500
TZNAME:EST
DTSTART:20221106T060000
END:STANDARD
BEGIN:DAYLIGHT
TZOFFSETFROM:-0500
TZOFFSETTO:-0400
TZNAME:EDT
DTSTART:20230312T070000
END:DAYLIGHT
BEGIN:STANDARD
TZOFFSETFROM:-0400
TZOFFSETTO:-0500
TZNAME:EST
DTSTART:20231105T060000
END:STANDARD
BEGIN:DAYLIGHT
TZOFFSETFROM:-0500
TZOFFSETTO:-0400
TZNAME:EDT
DTSTART:20240310T070000
END:DAYLIGHT
BEGIN:STANDARD
TZOFFSETFROM:-0400
TZOFFSETTO:-0500
TZNAME:EST
DTSTART:20241103T060000
END:STANDARD
END:VTIMEZONE
BEGIN:VEVENT
DTSTART;TZID=America/New_York:20230330T160000
DTEND;TZID=America/New_York:20230330T190000
DTSTAMP:20260422T100328
CREATED:20230307T203110Z
LAST-MODIFIED:20230307T203110Z
UID:5164-1680192000-1680202800@massache.org
SUMMARY:Early Careerist Network Community Servings Event
DESCRIPTION:The Early Careerist Network of ACHE of MA is pleased to announce our first volunteering experience in 2023! \nIt will be in partnership with Community Servings. This is a great networking opportunity while volunteering to help chronically ill people who are in need of food across Massachusetts. \nWhen: Thursday\, March 30\, 2023 | Time: 4-7pm \nWhere: Community Servings: 179 Amory St\, Jamaica Plain\, MA 02130 \nWhat will you be doing: Helping the Community Servings team to prepare and package food for chronically ill people. \nRequirements: Community Servings requires all volunteers to be fully vaccinated for COVID-19. \nWho can join: All ACHE of MA members are invited! There are 9 spots available for this volunteering opportunity\, so please sign up as soon as you can if you are interested. Register below! Questions? Reach out to info@massache.org
URL:https://massache.org/event/early-careerist-network-community-servings-event-2-5/
LOCATION:Community Servings\, 179 Armory Street\, Jamaica Plain\, 02130
END:VEVENT
END:VCALENDAR