BEGIN:VCALENDAR
VERSION:2.0
PRODID:-//ACHE of Massachusetts - ECPv6.15.18//NONSGML v1.0//EN
CALSCALE:GREGORIAN
METHOD:PUBLISH
X-WR-CALNAME:ACHE of Massachusetts
X-ORIGINAL-URL:https://massache.org
X-WR-CALDESC:Events for ACHE of Massachusetts
REFRESH-INTERVAL;VALUE=DURATION:PT1H
X-Robots-Tag:noindex
X-PUBLISHED-TTL:PT1H
BEGIN:VTIMEZONE
TZID:America/New_York
BEGIN:DAYLIGHT
TZOFFSETFROM:-0500
TZOFFSETTO:-0400
TZNAME:EDT
DTSTART:20220313T070000
END:DAYLIGHT
BEGIN:STANDARD
TZOFFSETFROM:-0400
TZOFFSETTO:-0500
TZNAME:EST
DTSTART:20221106T060000
END:STANDARD
BEGIN:DAYLIGHT
TZOFFSETFROM:-0500
TZOFFSETTO:-0400
TZNAME:EDT
DTSTART:20230312T070000
END:DAYLIGHT
BEGIN:STANDARD
TZOFFSETFROM:-0400
TZOFFSETTO:-0500
TZNAME:EST
DTSTART:20231105T060000
END:STANDARD
BEGIN:DAYLIGHT
TZOFFSETFROM:-0500
TZOFFSETTO:-0400
TZNAME:EDT
DTSTART:20240310T070000
END:DAYLIGHT
BEGIN:STANDARD
TZOFFSETFROM:-0400
TZOFFSETTO:-0500
TZNAME:EST
DTSTART:20241103T060000
END:STANDARD
END:VTIMEZONE
BEGIN:VEVENT
DTSTART;TZID=America/New_York:20230601T080000
DTEND;TZID=America/New_York:20230601T090000
DTSTAMP:20260422T063930
CREATED:20230321T010828Z
LAST-MODIFIED:20230321T010828Z
UID:5166-1685606400-1685610000@massache.org
SUMMARY:Conversations With Healthcare Champions With Dr. Kedar Mate
DESCRIPTION:ACHE’s Conversations with Healthcare Champions features in-depth interviews with healthcare’s most distinguished and influential leaders in a range of disciplines.  \n CLICK HERE TO REGISTER \nWe kick off our 2023 series with Dr. Kedar Mate\, President and CEO of the Institute for Healthcare Improvement (IHI). Dr. Mate also serves as President of the IHI Lucian Leape Institute\, and is a member of the faculty at Weill Cornell Medical College. His scholarly work has focused on health system design\, health care quality\, strategies for achieving large-scale change\, and approaches to improving value.  \nPreviously Dr. Mate worked at Partners In Health\, the World Health Organization\, Brigham and Women’s Hospital\, and served as IHI’s Chief Innovation and Education Officer. He has published numerous peer-reviewed articles\, book chapters\, and white papers and has received multiple honors\, including serving as a Soros Fellow\, Fulbright Specialist\, Zetema Panelist\, and an Aspen Institute Health Innovators Fellow. Dr. Mate graduated from Brown University with a degree in American History and from Harvard Medical School with a medical degree. \nOur discussion with Dr. Mate will look at: \n· Dr. Mate’s healthcare journey/career path; \n· Meaningful advice and wisdom learned along the way; \n· Characteristics of a successful leader; \n· Key issues for leaders in today’s healthcare environment; \n· Opportunities and challenges IHI is facing. \nJoin us at our Conversations With Healthcare Champions Series and hear from healthcare’s top leaders. \n CLICK HERE TO REGISTER
URL:https://massache.org/event/healthcare-champions-kedar-mate-april-27-2-5/
LOCATION:Virtual
END:VEVENT
END:VCALENDAR