BEGIN:VCALENDAR
VERSION:2.0
PRODID:-//ACHE of Massachusetts - ECPv6.15.18//NONSGML v1.0//EN
CALSCALE:GREGORIAN
METHOD:PUBLISH
X-WR-CALNAME:ACHE of Massachusetts
X-ORIGINAL-URL:https://massache.org
X-WR-CALDESC:Events for ACHE of Massachusetts
REFRESH-INTERVAL;VALUE=DURATION:PT1H
X-Robots-Tag:noindex
X-PUBLISHED-TTL:PT1H
BEGIN:VTIMEZONE
TZID:America/New_York
BEGIN:DAYLIGHT
TZOFFSETFROM:-0500
TZOFFSETTO:-0400
TZNAME:EDT
DTSTART:20220313T070000
END:DAYLIGHT
BEGIN:STANDARD
TZOFFSETFROM:-0400
TZOFFSETTO:-0500
TZNAME:EST
DTSTART:20221106T060000
END:STANDARD
BEGIN:DAYLIGHT
TZOFFSETFROM:-0500
TZOFFSETTO:-0400
TZNAME:EDT
DTSTART:20230312T070000
END:DAYLIGHT
BEGIN:STANDARD
TZOFFSETFROM:-0400
TZOFFSETTO:-0500
TZNAME:EST
DTSTART:20231105T060000
END:STANDARD
BEGIN:DAYLIGHT
TZOFFSETFROM:-0500
TZOFFSETTO:-0400
TZNAME:EDT
DTSTART:20240310T070000
END:DAYLIGHT
BEGIN:STANDARD
TZOFFSETFROM:-0400
TZOFFSETTO:-0500
TZNAME:EST
DTSTART:20241103T060000
END:STANDARD
END:VTIMEZONE
BEGIN:VEVENT
DTSTART;TZID=America/New_York:20230607T180000
DTEND;TZID=America/New_York:20230607T210000
DTSTAMP:20260422T063930
CREATED:20230515T013121Z
LAST-MODIFIED:20230515T013121Z
UID:5186-1686160800-1686171600@massache.org
SUMMARY:Tia's Summer  Social Event
DESCRIPTION:Tia’s Boston\, 200 Atlantic Ave\, Boston\, MA 02110\n6:00-9:00pm \n \n  \nACHE of MA’s Early Careerist Network (ECN) Professional Development & Networking and Mentorship Committees are excited to partner up to host a Summer Social! Join us for a night of food\, fun and networking with other healthcare professionals. We will be joined by the National Association of Health Services Executives (NAHSE) for this great event. \nOne FREE drink included with admission and food will be served! Cash bar will be available. \nCLICK HERE TO REGISTER \nCost: \n\nACHE members – $20\nNAHSE members – $20\nStudent ACHE members – $10\nNon-members – $30\nStudent non-members – $15
URL:https://massache.org/event/tias-summer-social-event-2-5/
LOCATION:Tia’s on the Waterfront\, 200 Atlantic Avenue\, Boston\, MA\, 02110\, United States
END:VEVENT
END:VCALENDAR