BEGIN:VCALENDAR
VERSION:2.0
PRODID:-//ACHE of Massachusetts - ECPv6.15.18//NONSGML v1.0//EN
CALSCALE:GREGORIAN
METHOD:PUBLISH
X-WR-CALNAME:ACHE of Massachusetts
X-ORIGINAL-URL:https://massache.org
X-WR-CALDESC:Events for ACHE of Massachusetts
REFRESH-INTERVAL;VALUE=DURATION:PT1H
X-Robots-Tag:noindex
X-PUBLISHED-TTL:PT1H
BEGIN:VTIMEZONE
TZID:America/New_York
BEGIN:DAYLIGHT
TZOFFSETFROM:-0500
TZOFFSETTO:-0400
TZNAME:EDT
DTSTART:20220313T070000
END:DAYLIGHT
BEGIN:STANDARD
TZOFFSETFROM:-0400
TZOFFSETTO:-0500
TZNAME:EST
DTSTART:20221106T060000
END:STANDARD
BEGIN:DAYLIGHT
TZOFFSETFROM:-0500
TZOFFSETTO:-0400
TZNAME:EDT
DTSTART:20230312T070000
END:DAYLIGHT
BEGIN:STANDARD
TZOFFSETFROM:-0400
TZOFFSETTO:-0500
TZNAME:EST
DTSTART:20231105T060000
END:STANDARD
BEGIN:DAYLIGHT
TZOFFSETFROM:-0500
TZOFFSETTO:-0400
TZNAME:EDT
DTSTART:20240310T070000
END:DAYLIGHT
BEGIN:STANDARD
TZOFFSETFROM:-0400
TZOFFSETTO:-0500
TZNAME:EST
DTSTART:20241103T060000
END:STANDARD
END:VTIMEZONE
BEGIN:VEVENT
DTSTART;TZID=America/New_York:20230615T120000
DTEND;TZID=America/New_York:20230615T130000
DTSTAMP:20260422T063938
CREATED:20230412T040802Z
LAST-MODIFIED:20230412T040802Z
UID:5185-1686830400-1686834000@massache.org
SUMMARY:Lunch N Learn - Hiring Your Education: The Best Fit Degree for Your Next Career Step 
DESCRIPTION:Hiring Your Education: The Best Fit Degree for Your Next Career Step  \n June 15\, 2023 – Virtual – 12-1pm  \nSummary: From sharpening your current skills to making yourself more competitive for new job opportunities\, a graduate degree could be your next move. Why are many professionals considering getting a master’s degree? According to the National Center for Education Statistics\, earning a master’s degree offers you versatility and opens up your professional options by making you more marketable. A master’s degree may be the best way to break the cycle and get into a job you really enjoy. Pursuing a master’s degree could be the key that unlocks the door to a better career path. Is it time for you to make a change? Learn more during ACHE of MA’s Lunch and Learn on June 12th at 12pm and hear more from our speakers. \nSpeakers:   \nDr. Joni Beshansky\, Boston College – Program Director\, Master of Healthcare Administration  \nSandi Ferretti\, MHSA\, Brown University – Program Director\, Master of Science in Healthcare Leadership \nModerator:  \nNikki Seiler\, MHA\, Manager of Innovation\, MassBio \n\n                \n                        \n                            2023 - June 15- ACHE of MA Lunch and Learn: Hiring Your Education: The Best Fit Degree for Your Next Career Step\n                             \n                        \n                        First Name:*Last Name:*Job Title*Company*Email:*
URL:https://massache.org/event/hiring-your-education-the-best-fit-degree-for-your-next-career-step-2-5/
LOCATION:Virtual
END:VEVENT
END:VCALENDAR