BEGIN:VCALENDAR
VERSION:2.0
PRODID:-//ACHE of Massachusetts - ECPv6.15.18//NONSGML v1.0//EN
CALSCALE:GREGORIAN
METHOD:PUBLISH
X-WR-CALNAME:ACHE of Massachusetts
X-ORIGINAL-URL:https://massache.org
X-WR-CALDESC:Events for ACHE of Massachusetts
REFRESH-INTERVAL;VALUE=DURATION:PT1H
X-Robots-Tag:noindex
X-PUBLISHED-TTL:PT1H
BEGIN:VTIMEZONE
TZID:America/New_York
BEGIN:DAYLIGHT
TZOFFSETFROM:-0500
TZOFFSETTO:-0400
TZNAME:EDT
DTSTART:20220313T070000
END:DAYLIGHT
BEGIN:STANDARD
TZOFFSETFROM:-0400
TZOFFSETTO:-0500
TZNAME:EST
DTSTART:20221106T060000
END:STANDARD
BEGIN:DAYLIGHT
TZOFFSETFROM:-0500
TZOFFSETTO:-0400
TZNAME:EDT
DTSTART:20230312T070000
END:DAYLIGHT
BEGIN:STANDARD
TZOFFSETFROM:-0400
TZOFFSETTO:-0500
TZNAME:EST
DTSTART:20231105T060000
END:STANDARD
BEGIN:DAYLIGHT
TZOFFSETFROM:-0500
TZOFFSETTO:-0400
TZNAME:EDT
DTSTART:20240310T070000
END:DAYLIGHT
BEGIN:STANDARD
TZOFFSETFROM:-0400
TZOFFSETTO:-0500
TZNAME:EST
DTSTART:20241103T060000
END:STANDARD
END:VTIMEZONE
BEGIN:VEVENT
DTSTART;TZID=America/New_York:20230620T120000
DTEND;TZID=America/New_York:20230620T130000
DTSTAMP:20260422T063930
CREATED:20230517T210316Z
LAST-MODIFIED:20230517T210316Z
UID:5203-1687262400-1687266000@massache.org
SUMMARY:Top Emergency Department Challenges
DESCRIPTION:Top Emergency Department Challenges-\nAnd How Analytics Can Help\nA Virtual Discussion Led by Clinical/Quality/Analytics Experts\nTuesday\, June 20th – 12:00- 1:00 PM ET (VIRTUAL) \n \nWhile the emergency department is often considered the heart of the hospital\, its daily operations can be impacted by various challenges\, such as capacity issues\, understaffing\, and financial constraints. \nJoin ACHE of Massachusetts and Dimensional Insight for this timely panel discussion about why data is critical to addressing the most pressing challenges in the emergency department. In this webinar\, you will hear from industry experts who will share their insights on how analytics can be leveraged to optimize emergency department operations and improve patient care. \nRegister now to secure your spot and learn how analytics can help overcome the top operational and clinical challenges in the emergency department. This webinar is free and eligible for 1 ACHE Qualified Education credit. \nLearning objectives: \n· Understand the top challenges faced by emergency departments\, including overcrowding\, patient flow\, and staff burnout.\n· Learn how analytics can help address these challenges by providing insights into patient volumes\, staffing levels\, and resource allocation.\n· Discover best practices for implementing an analytics program in your emergency department. \nREGISTER BELOW \n\n\n                \n                        First Name:*Last Name:*Job Title*Company*Email:*\n                            \n                        (Optional) Any pre-question for panelists?
URL:https://massache.org/event/1609-5-2/
LOCATION:Virtual
END:VEVENT
END:VCALENDAR