BEGIN:VCALENDAR
VERSION:2.0
PRODID:-//ACHE of Massachusetts - ECPv6.15.18//NONSGML v1.0//EN
CALSCALE:GREGORIAN
METHOD:PUBLISH
X-ORIGINAL-URL:https://massache.org
X-WR-CALDESC:Events for ACHE of Massachusetts
REFRESH-INTERVAL;VALUE=DURATION:PT1H
X-Robots-Tag:noindex
X-PUBLISHED-TTL:PT1H
BEGIN:VTIMEZONE
TZID:UTC
BEGIN:STANDARD
TZOFFSETFROM:+0000
TZOFFSETTO:+0000
TZNAME:UTC
DTSTART:20180101T000000
END:STANDARD
END:VTIMEZONE
BEGIN:VEVENT
DTSTART;TZID=UTC:20191101T070000
DTEND;TZID=UTC:20191101T120000
DTSTAMP:20260421T182614
CREATED:20190920T212343Z
LAST-MODIFIED:20190920T212343Z
UID:4824-1572591600-1572609600@massache.org
SUMMARY:2019 Fall Conference: Social Determinants of Health: What they are\, why they matter and what health systems are doing
DESCRIPTION:Friday\, November 1\, 2019\n7:00 AM – Noon\nSheraton Needham Hotel\n100 Cabot Street\, Needham\, MA\n(Continental breakfast and lunch included.) \nHealthcare systems bear growing economic risk under contracts with third party payors and government programs. Focusing on medical care delivery alone is not an effective way of managing population health. Studies show that overall health is primarily — about 60% — determined by the social\, economic\, and physical conditions in the environments in which people live\, learn\, work\, play and worship. \nSOCIAL DETERMINANTS OF HEALTH (SDOH) include: housing safety\, food availability\, education access/quality\, job opportunities\, healthcare access\, public safety (crime and violence)\, transportation\, recreational opportunities\, social supports and social stressors (such as racial and other forms of discrimination). \nStrategies for addressing SDOH include behavior change interventions (including personalized feedback\, health coaching\, social support for physical activity\, adequate sleep\, weight management\, diabetes management\,  diet counseling and stress management) as well as support products and services (such as mobile health\, websites\, other computer-based applications\, text messaging\, wearable devices\, body and environmental sensors\, and telecommunications). \nThis conference will assist you in understanding the most effective responses to SDOH that will result in improved care\, lower costs\, and better quality of life for the populations we serve. \nOnline Registration \nKeynote Speakers\n\nSandro Galea\, MD\, MPH\, DrPh\, Dean and Robert A. Knox Professor\, Boston University School of Public Health\nDouglas Brown\, President\, UMass Memorial Community Hospitals and Chief Administrative Officer\, UMass Memorial Health Care System\n\nPanelist Discussion\n\nAbigail Averbach\, MSc\, Assistant Commissioner and Director\, Office of Population Health\, MA Department of Public Health\nNissa James\, Ph.D.\, Director of Communications and Legislative Affairs\, Department of Vermont Health Access\nPhilly Laptiste\, Executive Director\, Bowdoin Street Health Center\nDan Slater\, MD\, Chair of Pediatrics and Medical Director of Mass Health ACO Program\, Atrius Health\nModerator: Jennifer Tomasik\, Vice President and Principal\, CFAR\nAND Keynote Douglas Brown\n\nSpeaker Bios \nAgenda\n\n\n\n7:00 to 7:30 AM\nRegistration\, Breakfast and Networking\n\n\n7:30 to 8:05 AM\nOpening Remarks and Annual Meeting \n\nJohn Fogarty\, FACHE\, ACHE of MA Chapter President and President\, Beth Israel Deaconess Hospital-Needham\n\n\n\n\n8:05 to 8:30 AM\nACHE Update \n\nKurt Barwis\, FACHE\, Board of Governors ACHE Speaker\, President and CEO\, Bristol (Conn.) Hospital & Health Care Group Inc.\n\n\n\n\n8:30 to 9:15 AM\nSandro Galea\, MD\n\n\n9:15 to 10:00 AM\nDouglas Brown\n\n\n10:00 to 10:30 AM\nNetworking Break – Visit Our Sponsor Tables\n\n\n10:30 to Noon\nPanel Discussion\n\n\nNoon\nClosing Remarks & Optional Networking Lunch\n\n\n\nInvestment\n$169 ACHE of Massachusetts/ACHE Members\n$169 MHA Members\n$299 Non-members (Join ACHE to receive the Member Rate.)\n*$35 Healthcare Administration Students and those “In Transition”\n*Students must be in a full-time Healthcare Administration Master’s Program. A Student ID will be requested upon check-in on conference day. \n\nThe American College of Healthcare Executives has awarded 1.5 ACHE Face-to-Face Education Credits to this program.\n\nCANCELLATION: To cancel your registration\, please notify us in writing no later than one week prior to the event for a refund\, less a $25 nonrefundable processing. If a cancellation takes place less than 3 days prior to the event\, no refunds will be given; however\, you may send a substitute in your place. \nOnline Registration
URL:https://massache.org/event/2019-fall-conference-social-determinants-of-health-what-they-are-why-they-matter-and-what-health-systems-are-doing-4-2/
LOCATION:Sheraton Needham Hotel\, 100 Cabot Street\, Needham\, MA\, 02494\, United States
END:VEVENT
END:VCALENDAR