BEGIN:VCALENDAR
VERSION:2.0
PRODID:-//ACHE of Massachusetts - ECPv6.15.18//NONSGML v1.0//EN
CALSCALE:GREGORIAN
METHOD:PUBLISH
X-ORIGINAL-URL:https://massache.org
X-WR-CALDESC:Events for ACHE of Massachusetts
REFRESH-INTERVAL;VALUE=DURATION:PT1H
X-Robots-Tag:noindex
X-PUBLISHED-TTL:PT1H
BEGIN:VTIMEZONE
TZID:UTC
BEGIN:STANDARD
TZOFFSETFROM:+0000
TZOFFSETTO:+0000
TZNAME:UTC
DTSTART:20190101T000000
END:STANDARD
END:VTIMEZONE
BEGIN:VEVENT
DTSTART;TZID=UTC:20200212T100000
DTEND;TZID=UTC:20200212T130000
DTSTAMP:20260421T215330
CREATED:20191217T203915Z
LAST-MODIFIED:20191217T203915Z
UID:4844-1581501600-1581512400@massache.org
SUMMARY:Student Career Navigation Event
DESCRIPTION:REGISTRATION IS CLOSED. On-site registration will not be available.\nFebruary 12\, 2020\n10:00 AM – 1:00 PM\nSuffolk University\, Sargent Hall\n120 Tremont Street 5th Floor\nBoston\, MA \nACHE of Massachusetts invites students in our Higher Education Network (HEN) to attend our 1st Student Career Navigation Event. This is a FREE opportunity for students to meet recruiters from Massachusetts’ healthcare organizations and consulting firms. \n*We will also have:* \n\nFree Professional Head Shots\nResume Critiquing\nMock Interviews\n\n*Space is limited and pre-registration is required for all of the above benefits AND to attend this event.\nOn-site registration will not be available.* \nEvent Details\n10:00 – 10:30 AM Registration & Networking \n10:40 – 11:10 AM Keynote Speaker: Rachel Wilson\, COO\, Atrius Health \n11:10 – 12:30 PM Speed Networking (Groups of students meet each employer) \n11:30 – 12:30 PM Professional Head Shots\, Resume Critique & Interview Skills \n12:30 – 1:00 PM 1:1 Connections (Students can return to individual employers during this time) \n\nThank You to Our Event Sponsors
URL:https://massache.org/event/student-career-navigation-event-2-5/
END:VEVENT
END:VCALENDAR