BEGIN:VCALENDAR
VERSION:2.0
PRODID:-//ACHE of Massachusetts - ECPv6.15.18//NONSGML v1.0//EN
CALSCALE:GREGORIAN
METHOD:PUBLISH
X-WR-CALNAME:ACHE of Massachusetts
X-ORIGINAL-URL:https://massache.org
X-WR-CALDESC:Events for ACHE of Massachusetts
REFRESH-INTERVAL;VALUE=DURATION:PT1H
X-Robots-Tag:noindex
X-PUBLISHED-TTL:PT1H
BEGIN:VTIMEZONE
TZID:UTC
BEGIN:STANDARD
TZOFFSETFROM:+0000
TZOFFSETTO:+0000
TZNAME:UTC
DTSTART:20190101T000000
END:STANDARD
END:VTIMEZONE
BEGIN:VEVENT
DTSTART;TZID=UTC:20200416T173000
DTEND;TZID=UTC:20200416T183000
DTSTAMP:20260422T010047
CREATED:20200405T175345Z
LAST-MODIFIED:20200405T175345Z
UID:4863-1587058200-1587061800@massache.org
SUMMARY:WEBINAR: Digging Deep - Leadership Lessons from the Field to Care for Yourself and Your Colleagues During Times of Prolonged Stress
DESCRIPTION:Join ACHE-RI\, CTAHE and ACHE of MA for this complimentary webinar. Pre-registration is required. \nGuest speaker is Nelly Burdette\, Psy.D.\, Associate Vice President of Integrated Behavioral Health at Providence Community Health Centers (PCHC) and Senior Integrated Behavioral Health Program Leader at CTC-RI (Care Transformation Collaborative Rhode Island). Rhode Island’s ACHE Regent Jennifer Tomasik\, SM\, FACHE will host. \nThis program will be approved for 1.0 hour of ACHE Qualified Education Credits. \n  \nREGISTER NOW\n  \nDr. Nelly Burdette received her Doctorate degree in health psychology from Spalding University in Louisville\, KY. Her internship was completed at Cherokee Health Systems in Knoxville\, TN with a focus on delivery of behavioral health services within a primary care safety net population. Her two-year post-doctorate was completed at University of Massachusetts Medical School in Primary Care Psychology. She has created integrated care programs at federally-qualified health centers\, community mental health centers\, specialty mental health settings and the Veteran’s Administration. From positions in senior leadership to providing clinical services embedded within medical practices\, she has provided the training and supervision to a wide range of health providers in both basic and intermediate principles of integrated behavioral health. In her current roles\, Dr. Burdette is the Associate Vice President of Integrated Behavioral Health at Providence Community Health Centers (PCHC)\, the largest federally-qualified health center in Rhode Island. She serves in both a leadership and clinical role at PCHC\, as well as a Senior Integrated Behavioral Health Program Leader at CTC-RI (Care Transformation Collaborative Rhode Island)\, a non-profit collaborative aimed at improving the way in which primary care is delivered in the State.
URL:https://massache.org/event/webinar-digging-deep-leadership-lessons-from-the-field-to-care-for-yourself-and-your-colleagues-during-times-of-prolonged-stress-2-5/
END:VEVENT
BEGIN:VEVENT
DTSTART;TZID=UTC:20200423T173000
DTEND;TZID=UTC:20200423T183000
DTSTAMP:20260422T010047
CREATED:20200413T225830Z
LAST-MODIFIED:20200413T225830Z
UID:4864-1587663000-1587666600@massache.org
SUMMARY:WEBINAR: COVID-19: Financial Recovery & Cash Flow Stabilization – Revenue Cycle Perspective
DESCRIPTION:Join CTAHE\, in partnership with ACHE RI\, ACHE of MA\, CTHFMA and NESHS for COVID-19: Financial Recovery & Cash Flow Stabilization – Revenue Cycle Perspective. Pre-registration is required. \nThe loss of provider revenue and accompanying cash deterioration caused by COVID-19 requires organizations to adapt operations to ensure long-term financial viability. The webinar will focus on revenue cycle operational enhancements\, liquidity management and other ideas to preserve cash. \nLearning Objectives: \n\nIncrease cash reserves.\nPrepare for regulatory and macro-economic changes brought on by COVID-19.\nResource deployment: Prepare for extended period of remote operation and staff turnover.\n\nThis program has been approved for 1.0 hour of ACHE Qualified Education Credits. \nREGISTER NOW\nPresenter:\nNelson Lowman is a Managing Director in BRG’s Hospital Performance Improvement practice. He applies his 25 plus years of healthcare operations and solution delivery experience to clients and counsel regarding provider efficiency improvement\, revenue cycle transformation and financial turnaround guidance.  For the past 15 years\, Nelson has held consulting leadership positions serving a diverse spectrum of health care provider clients throughout the United States and United Kingdom working at global consulting firms. In addition to consulting experience\, Nelson served as a Director of Revenue Cycle operations at the University of Maryland Medical System and Faculty Practice Financial Lead at LifeBridge Health. Nelson is a Healthcare Financial Management Association Certified Health Care Financial Professional (CHFP) and a member of the American Association of Professional Coders (AAPC) as a Certified Professional Coder (CPC\, CPC-H).
URL:https://massache.org/event/webinar-covid-19-financial-recovery-cash-flow-stabilization-revenue-cycle-perspective-2-5/
END:VEVENT
END:VCALENDAR