BEGIN:VCALENDAR
VERSION:2.0
PRODID:-//ACHE of Massachusetts - ECPv6.15.18//NONSGML v1.0//EN
CALSCALE:GREGORIAN
METHOD:PUBLISH
X-ORIGINAL-URL:https://massache.org
X-WR-CALDESC:Events for ACHE of Massachusetts
REFRESH-INTERVAL;VALUE=DURATION:PT1H
X-Robots-Tag:noindex
X-PUBLISHED-TTL:PT1H
BEGIN:VTIMEZONE
TZID:UTC
BEGIN:STANDARD
TZOFFSETFROM:+0000
TZOFFSETTO:+0000
TZNAME:UTC
DTSTART:20200101T000000
END:STANDARD
END:VTIMEZONE
BEGIN:VEVENT
DTSTART;TZID=UTC:20211207T190000
DTEND;TZID=UTC:20211207T203000
DTSTAMP:20260423T091708
CREATED:20210810T163057Z
LAST-MODIFIED:20210810T163057Z
UID:5026-1638903600-1638909000@massache.org
SUMMARY:Conversations with Healthcare Champions\, featuring Anne Klibanski\, M.D.
DESCRIPTION:Join ACHE of MA & Dr. Anne Klibanski for a Virtual Fireside Chat! \n \nRegister to join ACHE of Massachusetts as we are provided an evening of insight with an intimate virtual fireside chat with Anne Klibanski\, M.D. on\nTuesday\, December 7\, 7:00pm-8:30pm.\n\nDr. Klibanski will engage in conversation regarding:\n\nHer journey from physician to leader\nThe current challenges that healthcare is facing at the state\, national and global levels\nThe evolution of MGB as an integrated system and as a leader in Massachusetts during the pandemic\nHow MGB is leaning into their ambulatory centers\nAnd so much more!\n\nAfterwards\, we will break out into Zoom networking rooms to recap the lessons learned.\n\nAgenda \n7:00pm – 7:45pm\nA Moderated Discussion with Anne Klibanski\, M.D. \n7:45pm – 8:00pm\nQuestion & Answer  \n8:00pm – 8:30pm\nVirtual Networking Breakout Sessions \nRegistration \nACHE Members: $15.00\nFuture Members: $30.00\nStudents & Early Careerists: Complimentary \nClick Here to Register Now\n\nMeet Dr. Klibanski!\nAnne Klibanski\, M.D. is the President and Chief Executive Officer of Mass General Brigham\, a Boston-based integrated health care system that includes internationally known Brigham and Women’s Hospital and Massachusetts General Hospital\, nationally recognized specialty hospitals including Spaulding\, Mass Eye and Ear\, and McLean\, seven community hospitals\, a health insurance company\, physician networks\, community health centers\, home care and long-term care services. The largest private employer in Massachusetts with 78\,000 employees and annual revenue of $13.4 billion\, the non-profit health care system is the nation’s leading recipient of NIH funding and a principal teaching affiliate of Harvard Medical School\, establishing the health care\nsystem’s position as a national leader in medical research and teaching. \nAppointed to her role as President and CEO in June 2019\, Dr. Klibanski’s vision for Mass General Brigham is to build the integrated academic health care system of the future with patients at the center\, transforming care\, improving outcomes and expanding impact locally\, nationally and globally. \nDr. Klibanski has served as the health care system’s Chief Academic Officer and as Chief of Neuroendocrine at Massachusetts General Hospital. She is recognized internationally for her high impact research in neuroendocrine disorders and pituitary tumors. Dr. Klibanski received her B.A.\, magna cum laude in literature from Barnard College and her M.D. from New York University Medical Center. She is the Laurie Carrol Guthart Professor of Medicine at Harvard Medical School. \n 
URL:https://massache.org/event/conversations-with-healthcare-champions-feat-anne-klibanski-2-4/
END:VEVENT
BEGIN:VEVENT
DTSTART;TZID=UTC:20211208T180000
DTEND;TZID=UTC:20211208T193000
DTSTAMP:20260423T091708
CREATED:20211122T045542Z
LAST-MODIFIED:20211122T045542Z
UID:5046-1638986400-1638991800@massache.org
SUMMARY:ACHE of MA's ECN Virtual Dinner with the C-Suite
DESCRIPTION:Twenty-five Early Careerists are invited to join ACHE of Massachusetts Early Careerist Network for our Virtual Dinner with the C-Suite! \nAttendees will engage in networking\, dinner* and learn some pearls of wisdom from the C-Suite\, as they will talk about their career journey and answer your questions about your career path.\n*ACHE of MA Early Careerist Network will provide attendees with a $15.00 gift certificate to Grubhub to redeem for a take-out dinner to enjoy during the event. \n\nAgenda:\n6:00 – 6:30 PM\nDinner and Discussion with the C-Suite \n6:30 – 7:30 PM\nOpen Forum Question and Answer with the C-Suite \n\nIt’s complimentary to attend this great opportunity! \nREGISTRATION IS BASED UPON REQUEST AND APPROVAL\nHow are attendees chosen? If you are interested in attending\, please register with this link below by Sunday\, December 6. The applicants will be reviewed and approved registrants will receive an approval status and a link to the program by December 7. Those not chosen for the event will be notified as well and invited to participate in our next program. \nCLICK HERE TO REGISTER NOW \n\nOur C-Suite Attendees:\n \nJohn Christoforo\, FACHE\, Retired President & CEO\, Beth Israel Deaconess HealthCare \n  \n  \n  \n  \nJohn Fogarty\, FACHE\, President & CEO\, Beth Israel Deaconess Hospital-Needham \n  \n  \n  \n  \nChristine Schuster\, President & CEO\, Emerson Hospital \n 
URL:https://massache.org/event/ache-of-mas-ecn-virtual-dinner-with-the-c-suite-2-4/
END:VEVENT
END:VCALENDAR