BEGIN:VCALENDAR
VERSION:2.0
PRODID:-//ACHE of Massachusetts - ECPv6.15.18//NONSGML v1.0//EN
CALSCALE:GREGORIAN
METHOD:PUBLISH
X-ORIGINAL-URL:https://massache.org
X-WR-CALDESC:Events for ACHE of Massachusetts
REFRESH-INTERVAL;VALUE=DURATION:PT1H
X-Robots-Tag:noindex
X-PUBLISHED-TTL:PT1H
BEGIN:VTIMEZONE
TZID:UTC
BEGIN:STANDARD
TZOFFSETFROM:+0000
TZOFFSETTO:+0000
TZNAME:UTC
DTSTART:20210101T000000
END:STANDARD
END:VTIMEZONE
BEGIN:VEVENT
DTSTART;TZID=UTC:20220922T180000
DTEND;TZID=UTC:20220922T220000
DTSTAMP:20260422T195952
CREATED:20220411T173409Z
LAST-MODIFIED:20220411T173409Z
UID:5124-1663869600-1663884000@massache.org
SUMMARY:WooSox Baseball Game & Networking Event
DESCRIPTION:Join us at Worcester’s new Polar Park for a networking event featuring a full buffet dinner and catch a Worcester Red Sox Game!  \nCLICK HERE TO REGISTER
URL:https://massache.org/event/save-the-date-woosox-baseball-game-networking-event-2-5/
LOCATION:Polar Park\, 100 Madison Street\, Worcester\, MA\, 01608\, United States
END:VEVENT
END:VCALENDAR