BEGIN:VCALENDAR
VERSION:2.0
PRODID:-//ACHE of Massachusetts - ECPv6.15.18//NONSGML v1.0//EN
CALSCALE:GREGORIAN
METHOD:PUBLISH
X-ORIGINAL-URL:https://massache.org
X-WR-CALDESC:Events for ACHE of Massachusetts
REFRESH-INTERVAL;VALUE=DURATION:PT1H
X-Robots-Tag:noindex
X-PUBLISHED-TTL:PT1H
BEGIN:VTIMEZONE
TZID:America/New_York
BEGIN:DAYLIGHT
TZOFFSETFROM:-0500
TZOFFSETTO:-0400
TZNAME:EDT
DTSTART:20220313T070000
END:DAYLIGHT
BEGIN:STANDARD
TZOFFSETFROM:-0400
TZOFFSETTO:-0500
TZNAME:EST
DTSTART:20221106T060000
END:STANDARD
BEGIN:DAYLIGHT
TZOFFSETFROM:-0500
TZOFFSETTO:-0400
TZNAME:EDT
DTSTART:20230312T070000
END:DAYLIGHT
BEGIN:STANDARD
TZOFFSETFROM:-0400
TZOFFSETTO:-0500
TZNAME:EST
DTSTART:20231105T060000
END:STANDARD
BEGIN:DAYLIGHT
TZOFFSETFROM:-0500
TZOFFSETTO:-0400
TZNAME:EDT
DTSTART:20240310T070000
END:DAYLIGHT
BEGIN:STANDARD
TZOFFSETFROM:-0400
TZOFFSETTO:-0500
TZNAME:EST
DTSTART:20241103T060000
END:STANDARD
END:VTIMEZONE
BEGIN:VEVENT
DTSTART;TZID=America/New_York:20230817T080000
DTEND;TZID=America/New_York:20230817T090000
DTSTAMP:20260422T020254
CREATED:20230713T005311Z
LAST-MODIFIED:20230713T005311Z
UID:5223-1692259200-1692262800@massache.org
SUMMARY:Conversations With Healthcare Champions With Dr. Mark Keroack
DESCRIPTION:ACHE’s Conversations with Healthcare Champions features in-depth interviews with healthcare’s most distinguished and influential leaders in a range of disciplines.  \n \nDr. Keroack provides strategic\, financial\, and operational oversight for all services at Baystate Health and its subsidiary health plan\, Health New England. Under his leadership\, Baystate Health has expanded its clinical services\, incorporating two new community hospitals and growing its outpatient practices across the region. The system has been a national leader in adopting population-based approaches to care\, emphasizing prevention\, wellness\, care integration\, and cost containment under a global budget. Baystate Health also has enhanced its role as the sole academic medical center in western Massachusetts\, growing its tertiary services\, elevating its research programs\, and opening a regional medical campus of UMass Chan Medical School. \nDr. Keroack served as Baystate Health’s chief operating officer from 2013 – 2014 and as its chief physician executive from 2011 – 2013. He came to Baystate Health from University HealthSystem Consortium in Oak Brook\, Illinois\, where he served as chief medical officer for 10 years. Prior to his national work\, he served on the faculty of UMass Chan for 12 years\, where he focused on HIV and AIDS care and won five annual teaching awards. Beginning in 1995\, Dr. Kerock took on a more administrative role\, serving as the first president of the 700-physician UMass Memorial Medical Group. He has authored over 50 publications. \nDr. Keroack is a graduate of Amherst College and Harvard Medical School and received his MPH from Boston University. He trained in internal medicine and infectious diseases at Brigham and Women’s Hospital in Boston. He serves on several local boards focused on improving the quality of life in his native Springfield and across western Massachusetts\, as well as several state and national boards. He is married to Dr. Ann Errichetti\, and they have two grown daughters now living in Massachusetts and Vermont. \nJoin us at our Conversations With Healthcare Champions Series and hear from healthcare’s top leaders.
URL:https://massache.org/event/conversations-with-healthcare-champions-dr-mark-keroack-2-5/
LOCATION:Virtual
END:VEVENT
BEGIN:VEVENT
DTSTART;TZID=America/New_York:20230830T173000
DTEND;TZID=America/New_York:20230830T203000
DTSTAMP:20260422T020254
CREATED:20230804T013139Z
LAST-MODIFIED:20230804T013139Z
UID:5224-1693416600-1693427400@massache.org
SUMMARY:Volunteer Event at MA/NH Alzheimer's Association
DESCRIPTION:Join us for an upcoming Early Careerists/Civic Engagement\nCommittee Volunteering Event\nWhen: Wednesday\, August 30th\n\nWhere: Alzheimer’s Association of MA/NH\n309 Waverley Oaks Rd\, Waltham\, MA 02452\n\nTime: 5:30pm-7:30pm (volunteering) 7:30pm (networking nearby)\n\n  \nWhat: In preparation for the annual Greater Boston Walk to End Alzheimer’s\, we will be volunteering to help support the administrative needs and the participating walkers.\n\n  \nVolunteers will have the opportunity to connect with walkers via phone calls or by writing thank you notes to be sent out to walkers after the October walk event.\n  \n\nPlease RSVP by Friday\, August 18th (Fill in form below)\n\n  \nFor questions or more information on the Civic Engagement Committee\, please reach out to our Civic Engagement Committee Co-Chairs: Basel Tarab and Sabrina A. Klein via email: info@massache.org\n\n\n                \n                        \n                            ACHE of MA Civic Engagement Opportunity at Community Servings\n                             \n                        \n                        First Name:*Last Name:*Job Title*Company*Email:*
URL:https://massache.org/event/1656-2-5/
LOCATION:Alzheimer’s Association of MA/NH\, 309 Waverley Oaks Rd\, Waltham\, MA\, 02452
END:VEVENT
END:VCALENDAR