BEGIN:VCALENDAR
VERSION:2.0
PRODID:-//ACHE of Massachusetts - ECPv6.15.18//NONSGML v1.0//EN
CALSCALE:GREGORIAN
METHOD:PUBLISH
X-ORIGINAL-URL:https://massache.org
X-WR-CALDESC:Events for ACHE of Massachusetts
REFRESH-INTERVAL;VALUE=DURATION:PT1H
X-Robots-Tag:noindex
X-PUBLISHED-TTL:PT1H
BEGIN:VTIMEZONE
TZID:America/New_York
BEGIN:DAYLIGHT
TZOFFSETFROM:-0500
TZOFFSETTO:-0400
TZNAME:EDT
DTSTART:20230312T070000
END:DAYLIGHT
BEGIN:STANDARD
TZOFFSETFROM:-0400
TZOFFSETTO:-0500
TZNAME:EST
DTSTART:20231105T060000
END:STANDARD
BEGIN:DAYLIGHT
TZOFFSETFROM:-0500
TZOFFSETTO:-0400
TZNAME:EDT
DTSTART:20240310T070000
END:DAYLIGHT
BEGIN:STANDARD
TZOFFSETFROM:-0400
TZOFFSETTO:-0500
TZNAME:EST
DTSTART:20241103T060000
END:STANDARD
BEGIN:DAYLIGHT
TZOFFSETFROM:-0500
TZOFFSETTO:-0400
TZNAME:EDT
DTSTART:20250309T070000
END:DAYLIGHT
BEGIN:STANDARD
TZOFFSETFROM:-0400
TZOFFSETTO:-0500
TZNAME:EST
DTSTART:20251102T060000
END:STANDARD
END:VTIMEZONE
BEGIN:VEVENT
DTSTART;TZID=America/New_York:20240321T120000
DTEND;TZID=America/New_York:20240321T130000
DTSTAMP:20260421T141944
CREATED:20240228T193847Z
LAST-MODIFIED:20240228T193847Z
UID:5283-1711022400-1711026000@massache.org
SUMMARY:Personal Goals and Wellbeing: Investing 101
DESCRIPTION:Thursday\, March 21st at 12 p.m. EST\n\n\nVirtual via Zoom\n\n\nIn the next session of our Personal Goals and Wellbeing series for Chapter members\, sponsor Baystate Financial’s Clarendon Team will host a free VIRTUAL session focused on the basics of investing and how different kinds of investments may work toward your financial goals. \nTo register\, please click here\, https://acheinvestment.rsvpify.com \nThis session will cover the basics of investing and how different kinds of investments work. You will learn about: \n\nWhy you should invest\nRisk tolerance\nStocks\, bonds\, mutual funds\, and other types of investments\n\n\n\n\n\n\n\nFeatured Speaker\n\n\nSean Tucker \nPrivate Wealth Advisor
URL:https://massache.org/event/personal-goals-and-wellbeing-investing-101-2-5/
END:VEVENT
END:VCALENDAR