BEGIN:VCALENDAR
VERSION:2.0
PRODID:-//ACHE of Massachusetts - ECPv6.15.18//NONSGML v1.0//EN
CALSCALE:GREGORIAN
METHOD:PUBLISH
X-ORIGINAL-URL:https://massache.org
X-WR-CALDESC:Events for ACHE of Massachusetts
REFRESH-INTERVAL;VALUE=DURATION:PT1H
X-Robots-Tag:noindex
X-PUBLISHED-TTL:PT1H
BEGIN:VTIMEZONE
TZID:America/New_York
BEGIN:DAYLIGHT
TZOFFSETFROM:-0500
TZOFFSETTO:-0400
TZNAME:EDT
DTSTART:20230312T070000
END:DAYLIGHT
BEGIN:STANDARD
TZOFFSETFROM:-0400
TZOFFSETTO:-0500
TZNAME:EST
DTSTART:20231105T060000
END:STANDARD
BEGIN:DAYLIGHT
TZOFFSETFROM:-0500
TZOFFSETTO:-0400
TZNAME:EDT
DTSTART:20240310T070000
END:DAYLIGHT
BEGIN:STANDARD
TZOFFSETFROM:-0400
TZOFFSETTO:-0500
TZNAME:EST
DTSTART:20241103T060000
END:STANDARD
BEGIN:DAYLIGHT
TZOFFSETFROM:-0500
TZOFFSETTO:-0400
TZNAME:EDT
DTSTART:20250309T070000
END:DAYLIGHT
BEGIN:STANDARD
TZOFFSETFROM:-0400
TZOFFSETTO:-0500
TZNAME:EST
DTSTART:20251102T060000
END:STANDARD
END:VTIMEZONE
BEGIN:VEVENT
DTSTART;TZID=America/New_York:20240404T120000
DTEND;TZID=America/New_York:20240404T130000
DTSTAMP:20260421T141944
CREATED:20240220T175336Z
LAST-MODIFIED:20240220T175336Z
UID:5266-1712232000-1712235600@massache.org
SUMMARY:Virtual Lunch-N-Learn: “Navigating Career Options - Exploring Healthcare Consulting"
DESCRIPTION:Thursday\, April 4 @ 12:00 noon – 1:00 pm \nAre you curious about a career in healthcare consulting and how it could fit into your professional trajectory? Join us for an engaging Lunch-N-Learn event\, during which we will delve into the exciting realm of healthcare consulting and discuss the skills needed to excel in this field. Our speakers will also address common concerns such as maintaining a healthy work-life balance and explore the possibilities of transitioning back to the healthcare delivery world after gaining experience as a healthcare consultant. \nModerator: \n\nDaphnie Pierre\, MBA\, Manager\, CFAR\n\nSpeakers:  \n\nElizabeth Liebow\, MS\, Principal\, ECG Management Consultants\nShari Robbins\, MS\, Senior Director\, Vynamic\, Inizio Advisory \nDavid Rogers\, MHA\, PMP\, Principal Consultant\, Systems Evolution\, Inc. \n\n  \nDon’t miss this free informative event – open to all – membership not required. \n\n                \n                        \n                            ACHE of MA Virtual Lunch-N-Learn: Skills Spotlight: “Navigating Career Options - Exploring Healthcare Consulting"\n                            Virtual event - Zoom URL provided in confirmation. \n                        \n                        First Name:*Last Name:*Job Title*Company*Email:*\n                            \n                        \n           Save and Continue Later
URL:https://massache.org/event/virtual-lunch-n-learn-skills-spotlight-navigating-career-options-exploring-healthcare-consulting-2-4/
END:VEVENT
BEGIN:VEVENT
DTSTART;TZID=America/New_York:20240424T120000
DTEND;TZID=America/New_York:20240424T131500
DTSTAMP:20260421T141945
CREATED:20240405T211950Z
LAST-MODIFIED:20240405T211950Z
UID:5305-1713960000-1713964500@massache.org
SUMMARY:Sponsor-Led Virtual Event: Decoding Healthcare Data with AI: Practical Tips for Unlocking Actionable Insights
DESCRIPTION:Organized and Presented by Chapter Sponsor\, Dimensional Insight\n \nPresenters: \n\nGeorge Dealy\, Vice President\, Healthcare Applications\, Dimensional Insight\, Inc.\nJosh Lovering\, Healthcare Business Intelligence Consultant\, Dimensional Insight\, Inc.\n\nJoin us for this virtual event to discover practical approaches to data-driven AI that can help advance actionable change at your healthcare organization.  \nThis event is free for ACHE of MA members and authorized to award a total of 1.0 hours of ACHE Qualifying Education credits toward advancement or recertification in the American College of Healthcare Executives. \nArtificial intelligence and machine learning offer immense potential for unlocking insights from healthcare data. While generative AI has garnered all the buzz in recent headlines\, quantitative AI works behind the scenes on many of healthcare’s most important real-world data challenges. In this virtual education session\, we’ll explore the power of quantitative analytical models and algorithms to tackle high-impact healthcare use cases. \nYou’ll learn how AI teams come together to solve practical problems such as forecasting patient volumes\, predicting wait times\, optimizing staffing\, and more. You’ll walk away empowered to assess data readiness at your organization and become a “citizen data scientist”\, drawing your own conclusions and communicating your insights. \nLearning Objectives: \n\nUnderstand the fundamental capabilities of machine learning/AI tools & technologies.\nDifferentiate between generative and quantitative AI techniques.\nIdentify the approaches that are most appropriate for addressing specific healthcare use cases.\nLearn through a case study how AI and machine learning tools can be applied to practical healthcare information scenarios.\nSee how “citizen data scientists and data analysts” can take advantage of AI in healthcare settings to inform their own work.\n\nAs an independent chartered chapter of the American College of Healthcare Executives\, the ACHE of Massachusetts\, is authorized to award a total of 1.0 hours of ACHE Qualifying Education credits toward advancement or recertification in the American College of Healthcare Executives. Participants in this program who wish to have it considered for ACHE Qualifying Education credit should list their attendance when they apply to the American College of Healthcare Executives for advancement or recertification. \nFree for ACHE of MA Members; Non-Members pay $10.\nRegistration is required at the following: \nhttps://www.eventbrite.com/e/decoding-healthcare-data-with-ai-tickets-881473259247 \n  \n  \n 
URL:https://massache.org/event/sponsor-led-virtual-event-decoding-healthcare-data-with-ai-practical-tips-for-unlocking-actionable-insights-2-5/
END:VEVENT
BEGIN:VEVENT
DTSTART;TZID=America/New_York:20240426T160000
DTEND;TZID=America/New_York:20240426T190000
DTSTAMP:20260421T141945
CREATED:20240401T174318Z
LAST-MODIFIED:20240401T174318Z
UID:5286-1714147200-1714158000@massache.org
SUMMARY:Civic Engagement Opportunity with Community Servings
DESCRIPTION:Location: Community Servings\, 179 Amory St\, Jamaica Plain\, MA 02130 \nNetworking opportunity to follow – to be announced! \nFACHE Preparation: This civic volunteer opportunity supports the ACHE requirement to participate in two healthcare-related volunteer activities and two community/civic volunteer activities within the three years prior to applying for Fellow or recertification. \nJoin us after at (location to be determined) to network and toast our efforts. Kindly note that personal expenses for this part of the event will be covered individually. \nCommunity Servings Volunteer Information:\nIn order to volunteer\, you must feel 100% healthy and be free of any symptoms of illness\, including a cough\, fever\, chills\, body aches\, chest congestion\, shortness of breath\, nausea/vomiting\, or diarrhea. \n\nDress Code\n\nLong sleeved shirt that fully covers the midriff\nShoes that completely cover the foot (like sneakers)\nLong pants without rips or tears or a full length skirt\nHairnets\, aprons\, and gloves will be provided on site\n\n\nHow to Get Here\n\nCommunity Servings is located at 179 Amory St\, Jamaica Plain\, MA 02130.\nThey have parking available on site if you are traveling by car. Please park in either the paved or gravel lots in the front of the building and use the main entrance.\nThey are located close to the Stony Brook stop on the MBTA Orange Line if you are coming by public transportation.\n\n\n\nRegistration for this event has been closed.  \nFor questions or more information on this Civic Engagement Committee\, please email info@massache.org. \n 
URL:https://massache.org/event/civic-engagement-opportunity-with-community-servings-2-5/
END:VEVENT
END:VCALENDAR