BEGIN:VCALENDAR
VERSION:2.0
PRODID:-//ACHE of Massachusetts - ECPv6.15.18//NONSGML v1.0//EN
CALSCALE:GREGORIAN
METHOD:PUBLISH
X-WR-CALNAME:ACHE of Massachusetts
X-ORIGINAL-URL:https://massache.org
X-WR-CALDESC:Events for ACHE of Massachusetts
REFRESH-INTERVAL;VALUE=DURATION:PT1H
X-Robots-Tag:noindex
X-PUBLISHED-TTL:PT1H
BEGIN:VTIMEZONE
TZID:America/New_York
BEGIN:DAYLIGHT
TZOFFSETFROM:-0500
TZOFFSETTO:-0400
TZNAME:EDT
DTSTART:20230312T070000
END:DAYLIGHT
BEGIN:STANDARD
TZOFFSETFROM:-0400
TZOFFSETTO:-0500
TZNAME:EST
DTSTART:20231105T060000
END:STANDARD
BEGIN:DAYLIGHT
TZOFFSETFROM:-0500
TZOFFSETTO:-0400
TZNAME:EDT
DTSTART:20240310T070000
END:DAYLIGHT
BEGIN:STANDARD
TZOFFSETFROM:-0400
TZOFFSETTO:-0500
TZNAME:EST
DTSTART:20241103T060000
END:STANDARD
BEGIN:DAYLIGHT
TZOFFSETFROM:-0500
TZOFFSETTO:-0400
TZNAME:EDT
DTSTART:20250309T070000
END:DAYLIGHT
BEGIN:STANDARD
TZOFFSETFROM:-0400
TZOFFSETTO:-0500
TZNAME:EST
DTSTART:20251102T060000
END:STANDARD
END:VTIMEZONE
BEGIN:VEVENT
DTSTART;TZID=America/New_York:20240509T130000
DTEND;TZID=America/New_York:20240509T170000
DTSTAMP:20260421T104648
CREATED:20240327T162405Z
LAST-MODIFIED:20240327T162405Z
UID:5285-1715259600-1715274000@massache.org
SUMMARY:MHA's Emerging Leaders Summit
DESCRIPTION:DATE: Thursday\, May 9\, 1-5pm \nLOCATION: MCLE Conference Center 10 Winter Place Boston\, MA \nACHE of MA has again partnered with MHA for its annual Emerging Leaders Summit 2024\, scheduled for Thursday\, May 9\, from 1-5pm. We are thrilled to announce the involvement of ACHE FACHE fellows and other esteemed rising stars for a dynamic panel discussion\, “Using Your Compass to Find Your Path.” \nThe Emerging Leaders Summit is tailored for mid-level professionals who aspire to advance within the healthcare field and develop leadership skills across all sectors of the healthcare industry. The program provides insights on professional and personal development and essential management and leadership techniques to achieve leadership excellence. \nClick AGENDA for the entire program lineup. \nACHE of MA members (who are not MHA members) are eligible to register at member pricing below with the discount code\, EL2024 \nAs an independent chartered chapter of the American College of Healthcare Executives\, the ACHE of Massachusetts\, is authorized to award a total of 3.0 hours of ACHE Qualifying Education credits toward advancement or recertification in the American College of Healthcare Executives. Participants in this program who wish to have it considered for ACHE Qualifying Education credit should list their attendance when they apply to the American College of Healthcare Executives for advancement or recertification. \nMEMBER COST: \n$149/pp Rate\n$129/pp 3+ Group Rate \nRegister HERE! \n 
URL:https://massache.org/event/mhas-emerging-leaders-summit-2-5/
END:VEVENT
BEGIN:VEVENT
DTSTART;TZID=America/New_York:20240514T170000
DTEND;TZID=America/New_York:20240514T173000
DTSTAMP:20260421T104648
CREATED:20240403T153922Z
LAST-MODIFIED:20240403T153922Z
UID:5304-1715706000-1715707800@massache.org
SUMMARY:FACHE Advancement Information Session – Virtual
DESCRIPTION:This virtual event is free to attend\, but registration is required. \nWhether you’ve already made the decision to embark on the journey toward FACHE or are still contemplating\, we invite you to participate in our first FACHE Advancement Information Session in 2024. During the live session\, participants will have the opportunity to ask questions while receiving a comprehensive overview of the FACHE advancement process. Topics to be discussed include: \n\nBenefits of Advancement\nEligibility Requirements\nApplication Process\nExam Overview\nExam Preparation and Resources\nRecertification\n\nRegister below to gain valuable insights! Please contact info@massache.org with questions. \n\n                \n                        \n                            FACHE Advancement Information Session\n                            Virtual event - Zoom URL to be provided in advance of session. \n                        \n                        First Name:*Last Name:*Job Title*Company*Email:*\n                            \n                        \n           Save and Continue Later
URL:https://massache.org/event/fache-advancement-information-session-virtual-3-5/
END:VEVENT
BEGIN:VEVENT
DTSTART;TZID=America/New_York:20240516T120000
DTEND;TZID=America/New_York:20240516T130000
DTSTAMP:20260421T104648
CREATED:20240307T180703Z
LAST-MODIFIED:20240307T180703Z
UID:5284-1715860800-1715864400@massache.org
SUMMARY:Conversations with Healthcare Champions - Steve Walsh\, President & CEO\, Massachusetts Health & Hospital Association
DESCRIPTION:  \n \nACHE of MA’s virtual Conversations with Healthcare Champions series features in-depth interviews with healthcare’s most distinguished and influential leaders in a range of disciplines. \nThursday\, May 16 at 12:00 Noon (ET) – ACHE of MA will be one-on-one with Steve Walsh\, President and CEO of the Massachusetts Health & Hospital Association. \nMembers attend for free; Nonmembers: $15.  \nRegistration is required at – https://www.eventbrite.com/e/conversations-with-healthcare-champions-steve-walsh-president-ceo-mha-tickets-861693858527 \n  \n\nAbout Steve Walsh\, JD\, MPA \nSteve has served as President and CEO of the Massachusetts Health & Hospital Association since November 2017. He oversees MHA’s mission to create a more accessible\, equitable\, and coordinated healthcare system for patients on behalf of the association’s 70-plus hospital and health system members. \nSteve has been a leading voice for the advancement of Massachusetts healthcare for more than two decades. He previously served as the Executive Director of the Massachusetts Council of Community Hospitals (MCCH)\, where he led innovative change in care delivery\, policy\, and regulation to meet the unique needs of community hospitals across the commonwealth. \nPrior to MCCH\, Walsh served six terms in the Massachusetts House of Representatives and was appointed Chair of the House Committee on Health Care Financing in 2011. He wrote and oversaw passage of the commonwealth’s 2012 landmark healthcare reform law\, Chapter 224\, which incentivized utilization of alternative payment methodologies and investment in community health\, while encouraging patient empowerment and primary care. He was also a conferee of Chapter 288 of the Acts of 2010\, the commonwealth’s small business healthcare legislation. \nDuring his time at MHA\, Steve has served as a central coordinator in the healthcare community’s response to the COVID-19 crisis\, championed passage of a historic Medicaid waiver to accelerate health equity and care quality in Massachusetts hospitals\, and led the system’s efforts to support and advance the healthcare workforce. \nSteve is a member of the American College of Health Care Executives (ACHE)\, has twice been named to Boston Magazine’s list of Most Influential Bostonians\, and is regularly among Modern Healthcare’s 300 Most Influential People in Healthcare. \nSteve is a graduate of Wesleyan University\, the New England School of Law\, and the Harvard Kennedy School of Government.
URL:https://massache.org/event/conversations-with-healthcare-champions-steve-walsh-president-ceo-massachusetts-health-hospital-association-2-5/
END:VEVENT
BEGIN:VEVENT
DTSTART;TZID=America/New_York:20240523T120000
DTEND;TZID=America/New_York:20240523T130000
DTSTAMP:20260421T104648
CREATED:20240429T205003Z
LAST-MODIFIED:20240429T205003Z
UID:5306-1716465600-1716469200@massache.org
SUMMARY:Personal Goals and Wellbeing Series: Retirement Income Planning
DESCRIPTION:In the upcoming virtual session of our Personal Goals and Wellbeing series\, which is free for Chapter members\, sponsor Baystate Financial’s Clarendon Team will offer an in-depth exploration of retirement planning and strategies\, including those related to immediate income. \nThis session will cover topics including: \n\nSources of Retirement Income: Learn about the various sources of income available during retirement.\nRisks Affecting Income: Understand the risks that can impact your retirement income.\nPlanning for Longevity: Discover strategies for ensuring income that lasts throughout your retirement.\n\nTo register\, visit\, https://acheretirementincome.rsvpify.com \nMember #s will be required \n  \n  \n 
URL:https://massache.org/event/personal-goals-and-wellbeing-series-retirement-income-planning-2-5/
END:VEVENT
END:VCALENDAR