BEGIN:VCALENDAR
VERSION:2.0
PRODID:-//ACHE of Massachusetts - ECPv6.15.18//NONSGML v1.0//EN
CALSCALE:GREGORIAN
METHOD:PUBLISH
X-ORIGINAL-URL:https://massache.org
X-WR-CALDESC:Events for ACHE of Massachusetts
REFRESH-INTERVAL;VALUE=DURATION:PT1H
X-Robots-Tag:noindex
X-PUBLISHED-TTL:PT1H
BEGIN:VTIMEZONE
TZID:America/New_York
BEGIN:DAYLIGHT
TZOFFSETFROM:-0500
TZOFFSETTO:-0400
TZNAME:EDT
DTSTART:20230312T070000
END:DAYLIGHT
BEGIN:STANDARD
TZOFFSETFROM:-0400
TZOFFSETTO:-0500
TZNAME:EST
DTSTART:20231105T060000
END:STANDARD
BEGIN:DAYLIGHT
TZOFFSETFROM:-0500
TZOFFSETTO:-0400
TZNAME:EDT
DTSTART:20240310T070000
END:DAYLIGHT
BEGIN:STANDARD
TZOFFSETFROM:-0400
TZOFFSETTO:-0500
TZNAME:EST
DTSTART:20241103T060000
END:STANDARD
BEGIN:DAYLIGHT
TZOFFSETFROM:-0500
TZOFFSETTO:-0400
TZNAME:EDT
DTSTART:20250309T070000
END:DAYLIGHT
BEGIN:STANDARD
TZOFFSETFROM:-0400
TZOFFSETTO:-0500
TZNAME:EST
DTSTART:20251102T060000
END:STANDARD
END:VTIMEZONE
BEGIN:VEVENT
DTSTART;TZID=America/New_York:20240718T120000
DTEND;TZID=America/New_York:20240718T130000
DTSTAMP:20260421T092101
CREATED:20240628T183926Z
LAST-MODIFIED:20240628T183926Z
UID:5327-1721304000-1721307600@massache.org
SUMMARY:Charting Your Course: Which Graduate Degree Will Propel Your Healthcare Career?
DESCRIPTION:Thursday\, July 18\n12-1:00 pm (ET)\nVirtual event – link to be provided to registrants\nDon’t miss this free informative event – open to all – membership not required.\nAre you looking to advance your career or make a transition into healthcare? Or perhaps you aspire to pursue a leadership path and differentiate yourself from others in the field? Navigating the array of graduate degrees can be overwhelming. \nJoin our panel of healthcare academic leaders to hear insights on how to choose the best degree to achieve your career goals. Graduate healthcare program faculty and directors from Bay Path\, Brown\, and Suffolk Universities will discuss key differences between the MBA\, MHA\, MHM\, and MPH\, offering guidance to help you find the path that aligns best with your career aspirations. \nModerated by: \nProgramming Committe ECN Vice Chair\, Jim Zheng\, MS\, CRA\, FACHE\,\nDirector of Radiology at Beth Israel Deaconess Needham \nPresenters: \n\nMona Al-Amin\, PhD\, Associate Professor\, Healthcare Administration\, Suffolk University\nSandra Ferretti\, MHA\, Program Director\, ScM in Healthcare Leadership; Brown University School of Professional Studies\nAnna Zendell\, PhD\, MSW\, Associate Professor and Program Director MS in Healthcare Management\, School of Health and Natural Sciences\, Bay Path University.\n\nRegistration closed. \n 
URL:https://massache.org/event/charting-your-course-which-graduate-degree-will-propel-your-healthcare-career-2-2-2/
END:VEVENT
BEGIN:VEVENT
DTSTART;VALUE=DATE:20240729
DTEND;VALUE=DATE:20240801
DTSTAMP:20260421T092101
CREATED:20240506T173216Z
LAST-MODIFIED:20240506T173216Z
UID:5322-1722211200-1722470399@massache.org
SUMMARY:ACHE's 2024 Boston Cluster - Build a Better Future for Healthcare in Boston
DESCRIPTION:  \n\n \n2024 Boston Cluster\nJuly 29–31 (Monday–Wednesday) \nJoin your fellow healthcare professionals to discuss the rapidly changing future of our industry while developing the skills\, knowledge and mindset required to help lead your staff and organization toward new success in 2024 and beyond. \nThe Boston Cluster is your opportunity to: \n\nCreate meaningful connections with like-minded colleagues.\nParticipate in innovative\, interactive discussions and seminars developed by industry experts.\nFurther develop your people skills\, leadership strategies and business acumen while bringing new solutions back to your organization.\nEarn up to 24 ACHE In-Person Education credits toward FACHE® advancement or recertification!\n\nFor additional details and to register\, visit – www.ache.org/Boston.
URL:https://massache.org/event/aches-2024-boston-cluster-build-a-better-future-for-healthcare-in-boston-2-5/
LOCATION:Westin Copley Place\, 10 Huntington Avenue\, Boston\, MA 02116\, MA\, 02116\, United States
END:VEVENT
BEGIN:VEVENT
DTSTART;TZID=America/New_York:20240729T170000
DTEND;TZID=America/New_York:20240729T190000
DTSTAMP:20260421T092101
CREATED:20240506T175915Z
LAST-MODIFIED:20240506T175915Z
UID:5315-1722272400-1722279600@massache.org
SUMMARY:2024 Boston Cluster  - Complimentary Education Event and Networking Reception sponsored by LeanTaaS -The Path to Profitability: How AI-Powered Capacity and Staffing Optimization Solutions Can Increase EBITDA
DESCRIPTION:Monday\, July 29\, 5:00-6:00 pm\nNetworking reception immediately follows 6:00-7:00 pm\nJoin health system leaders for an education and networking event hosted by Cluster Sponsor\, LeanTaaS. The complimentary event will take place on Monday\, July 29\, concluding the first day of ACHE’s 2024 Boston Cluster. Attendees will receive 1 ACHE Qualifying Education credit! \nYou DO NO need to attend the Cluster to attend this event but registration is required. Click HERE to register. \n  \n 
URL:https://massache.org/event/2024-boston-cluster-complimentary-education-event-and-networking-reception-sponsored-by-leantaas-the-path-to-profitability-how-ai-powered-capacity-and-staffing-optimization-solutions-can-increase-3-2/
LOCATION:Westin Copley Place\, 10 Huntington Avenue\, Boston\, MA 02116\, MA\, 02116\, United States
END:VEVENT
END:VCALENDAR