BEGIN:VCALENDAR
VERSION:2.0
PRODID:-//ACHE of Massachusetts - ECPv6.15.18//NONSGML v1.0//EN
CALSCALE:GREGORIAN
METHOD:PUBLISH
X-ORIGINAL-URL:https://massache.org
X-WR-CALDESC:Events for ACHE of Massachusetts
REFRESH-INTERVAL;VALUE=DURATION:PT1H
X-Robots-Tag:noindex
X-PUBLISHED-TTL:PT1H
BEGIN:VTIMEZONE
TZID:America/New_York
BEGIN:DAYLIGHT
TZOFFSETFROM:-0500
TZOFFSETTO:-0400
TZNAME:EDT
DTSTART:20230312T070000
END:DAYLIGHT
BEGIN:STANDARD
TZOFFSETFROM:-0400
TZOFFSETTO:-0500
TZNAME:EST
DTSTART:20231105T060000
END:STANDARD
BEGIN:DAYLIGHT
TZOFFSETFROM:-0500
TZOFFSETTO:-0400
TZNAME:EDT
DTSTART:20240310T070000
END:DAYLIGHT
BEGIN:STANDARD
TZOFFSETFROM:-0400
TZOFFSETTO:-0500
TZNAME:EST
DTSTART:20241103T060000
END:STANDARD
BEGIN:DAYLIGHT
TZOFFSETFROM:-0500
TZOFFSETTO:-0400
TZNAME:EDT
DTSTART:20250309T070000
END:DAYLIGHT
BEGIN:STANDARD
TZOFFSETFROM:-0400
TZOFFSETTO:-0500
TZNAME:EST
DTSTART:20251102T060000
END:STANDARD
END:VTIMEZONE
BEGIN:VEVENT
DTSTART;TZID=America/New_York:20240910T170000
DTEND;TZID=America/New_York:20240910T173000
DTSTAMP:20260421T045020
CREATED:20240809T194915Z
LAST-MODIFIED:20240809T194915Z
UID:5330-1725987600-1725989400@massache.org
SUMMARY:FACHE Advancement Information Session – Virtual
DESCRIPTION:Whether you’ve already made the decision to embark on the journey toward FACHE or are still contemplating\, we invite you to participate in our first FACHE Advancement Information Session in 2024. During the live session\, participants will have the opportunity to ask questions while receiving a comprehensive overview of the FACHE advancement process. Topics to be discussed include: \n\nBenefits of Advancement\nEligibility Requirements\nApplication Process\nExam Overview\nExam Preparation and Resources\nRecertification\n\nRegister below to gain valuable insights! Please contact info@massache-local.local with questions. \nVirtual event – Zoom URL to be provided in advance of session. \n  \n\n                \n                        \n                            ACHE Massachusetts FACHE Mentor Request Form-September 2024\n                             \n                        \n                        Name:*Company:*Title:*Email:*\n                            \n                        Work Phone:Cell Phone:Where are you at in the FACHE process?*\n								\n								I meet the eligibility requirements.\n							\n								\n								I submitted my advancement application and $250 application fee.\n							\n								\n								My application is pending approval.\n							\n								\n								My application has been approved and within the two (2) years in which you must take and pass the exam.\n							\n								\n								I am preparing for the exam.\n							\n								\n								I have registered and paid for the exam and am waiting to take it.\n							Please choose where you are at so we know how to best support you. Do you have any specific questions or concerns about the exam / process that we can answer for you?
URL:https://massache.org/event/fache-advancement-information-session-virtual-2-2/
END:VEVENT
BEGIN:VEVENT
DTSTART;TZID=America/New_York:20240918T120000
DTEND;TZID=America/New_York:20240918T130000
DTSTAMP:20260421T045020
CREATED:20240716T152520Z
LAST-MODIFIED:20240716T152520Z
UID:5328-1726660800-1726664400@massache.org
SUMMARY:Conversations with Healthcare Champions – Aimee Brewer\, MPH\, President and CEO\, Sturdy Health
DESCRIPTION:Wednesday\, September 18\, 2024\n12:00 Noon – 1:00 PM ET\nVirtual\nACHE of MA’s virtual Conversations with Healthcare Champions series features in-depth interviews with healthcare’s most distinguished and influential leaders in a range of disciplines. \nWednesday\, September 18 at 12:00 Noon (ET) – ACHE of MA will be one-on-one with Aimee Brewer\, MHA\, President and CEO of Sturdy Health. \nMembers attend for free; Nonmembers: $15.  \nRegistration is required at\, \nhttps://www.eventbrite.com/e/conv-with-healthcare-champions-aimee-brewer-presidentceo-sturdy-health-tickets-950236762737 \n\n\nAbout Aimee Bioteau Brewer\, MPH\nAimee Brewer is President and Chief Executive Officer of Sturdy Health\, an independent\, non-profit integrated healthcare system based in Attleboro\, Massachusetts. Sturdy Health provides comprehensive healthcare services to communities in Southeastern Massachusetts and neighboring Rhode Island through its acute care hospital and 26 medical office locations. \nPrior to Sturdy\, Aimee served as President of the Healthcare Group of NorthBay Health in California during which time she was named Congressional Women of the Year for her exceptional work as a key leader in the state’s response to the COVID-19 pandemic. While in California\, Aimee served on the Board of Partnership Health Plan\, was Board Chair of Solano Coalition for Better Health\, a Board Member and Section Chair of the California Hospital Council\, and a Board Member of Touro University. Prior to joining NorthBay\, Aimee held several leadership positions within HCA Healthcare\, one of the nation’s leading providers of healthcare in 21 states and the United Kingdom. \nCurrently\, Aimee serves on the Board of Trustee of Massachusetts Health & Hospital Association (MHA)\, as an Advisory Council Member of The Massachusetts Health Policy Commission (HPC) and was recently appointed Region 1 State Delegate of the American Hospital Association’s Regional Policy Board. Within the community\, Aimee is a Corporator of the Hockomock Area YMCA\, a Corporator of Bristol County Savings Bank\, and a member of the Wheaton College Community Council. \nA Simmons University alumnus\, Aimee earned a bachelor’s degree with a triple major in biology\, chemistry\, and sociology of health. She received a master’s degree in public health\, emphasizing policy and management\, from the University of New Hampshire. \nA New England native\, Aimee’s return to the region has been both professionally rewarding and personally fulfilling.
URL:https://massache.org/event/conversations-with-healthcare-champions-aimee-brewer-mph-president-and-ceo-sturdy-memorial-hospital-2/
END:VEVENT
BEGIN:VEVENT
DTSTART;TZID=America/New_York:20240926T173000
DTEND;TZID=America/New_York:20240926T203000
DTSTAMP:20260421T045020
CREATED:20240530T213531Z
LAST-MODIFIED:20240530T213531Z
UID:5326-1727371800-1727382600@massache.org
SUMMARY:Inclusive Leadership\, a DEI Catalyst: "How to be an Inclusive Leader at Each Career Level"
DESCRIPTION:Register Today!\nThursday\, September 26\, 2024 \n 5:30-8:30pm \nInclusive Leadership\, a DEI Catalyst: “How to be an Inclusive Leader at Each Career Level”\nACHE of MA’s 2024 Diversity\, Equity\, and Inclusion Panel Event is set to gather a distinguished panel of leaders to discuss the vital aspects of inclusive leadership. To be graciously hosted again this year by Slalom Consulting\, this event will highlight the crucial role of DEI in shaping every phase of your journey as a healthcare executive\, advancing DEI initiatives within your healthcare organizations\, and fostering health equity. \nThe American College of Healthcare Executives has approved this event for 1.5 In-Person Education credits for advancement or recertification.\nPROGRAM \n5:30-6:00 – Registration and Networking \n6:00-7:00 – Welcome\, Introductions\, and Panel Discussion \nPANELISTS\nModerator:\nShan Mohammed\, MD\, MPH\nAssistant Dean for DEI Educational and Student Initiatives\,\nClinical Professor\, Northeastern University \nThea James\, MD\, MPH\, MBA\nVice President of Mission & Associate Chief Medical Officer\, Boston Medical Center (BMC)\nCo-Executive Director of the Health Equity Accelerator\nProfessor of Emergency Medicine\, Boston University School of Medicine \nTyonne Hinson\, DrPH\, MSN\, RN\, NE-BC\nSenior Vice President & Chief Diversity\, Health Equity\, and Inclusion Officer\nBaystate Health \nDominique Morgan\, MPH\nChief Operations Officer\nHealth Leads \n7:00-7:30 – Q&A \n7:30-8:30 – Networking \nTICKETS:\nACHE Members – $35 \nNon-ACHE Members – $50 \nThe American College of Healthcare Executives has approved this event for 1.5 In-Person Education credits for advancement or recertification.\nRegister at https://www.eventbrite.com/e/inclusive-leadership-a-catalyst-for-dei-tickets-935918486387\n  \n 
URL:https://massache.org/event/inclusive-leadership-a-catalyst-for-dei-2-2-2/
LOCATION:Slalom Consulting\, 399 Boylston St Ste 1000\, Boston\, MA\, 02116
END:VEVENT
END:VCALENDAR